BEGIN:VCALENDAR
VERSION:2.0
PRODID:-//eventon.com NONSGML v1.0//EN
BEGIN:VEVENT
UID:69e4d4f154d4e
DTSTAMP:20260419T091321
DTSTART:20231103T213000Z
DTEND:20231103T230000Z
TZID:America/New_York
LOCATION:Zion Bay City 1707 S. Kiesel St.
SUMMARY:Volleyball - A  Away
DESCRIPTION: All Games start at 5:30pm with the B-Team playing first. &nbsp;\nhttps://zionauburn.com/events/volleyball-a-away/
URL:https://zionauburn.com/events/volleyball-a-away/
END:VEVENT
END:VCALENDAR