BEGIN:VCALENDAR
VERSION:2.0
PRODID:-//Zion Lutheran Church : Auburn, MI - ECPv6.2.3.2//NONSGML v1.0//EN
CALSCALE:GREGORIAN
METHOD:PUBLISH
X-ORIGINAL-URL:https://zionauburn.com/church
X-WR-CALDESC:Events for Zion Lutheran Church : Auburn, MI
REFRESH-INTERVAL;VALUE=DURATION:PT1H
X-Robots-Tag:noindex
X-PUBLISHED-TTL:PT1H
BEGIN:VTIMEZONE
TZID:America/Detroit
BEGIN:DAYLIGHT
TZOFFSETFROM:-0500
TZOFFSETTO:-0400
TZNAME:EDT
DTSTART:20250309T070000
END:DAYLIGHT
BEGIN:STANDARD
TZOFFSETFROM:-0400
TZOFFSETTO:-0500
TZNAME:EST
DTSTART:20251102T060000
END:STANDARD
END:VTIMEZONE
BEGIN:VEVENT
DTSTART;TZID=America/Detroit:20250920T173000
DTEND;TZID=America/Detroit:20250920T183000
DTSTAMP:20260421T120807
CREATED:20241001T150023Z
LAST-MODIFIED:20250627T122521Z
UID:10001299-1758389400-1758393000@zionauburn.com
SUMMARY:Saturday Night Service
DESCRIPTION:
URL:https://zionauburn.com/church/event/saturday-night-service/2025-09-20/
LOCATION:Zion Auburn Lutheran Church\, 1557 Seidlers Road\, Auburn\, MI\, 46611\, United States
CATEGORIES:Services
ATTACH;FMTTYPE=image/jpeg:https://zionauburn.com/church/wp-content/uploads/2020/11/sat.jpg
GEO:43.6822;-84.11054
X-APPLE-STRUCTURED-LOCATION;VALUE=URI;X-ADDRESS=Zion Auburn Lutheran Church 1557 Seidlers Road Auburn MI 46611 United States;X-APPLE-RADIUS=500;X-TITLE=1557 Seidlers Road:geo:-84.11054,43.6822
END:VEVENT
BEGIN:VEVENT
DTSTART;TZID=America/Detroit:20250914T090000
DTEND;TZID=America/Detroit:20250914T100000
DTSTAMP:20260421T120807
CREATED:20201106T135948Z
LAST-MODIFIED:20240313T153431Z
UID:10000460-1757840400-1757844000@zionauburn.com
SUMMARY:Sunday AM Worship
DESCRIPTION:
URL:https://zionauburn.com/church/event/sunday-am-worship/2025-09-14/
LOCATION:Zion Auburn Lutheran Church\, 1557 Seidlers Road\, Auburn\, MI\, 46611\, United States
CATEGORIES:Services
ATTACH;FMTTYPE=image/jpeg:https://zionauburn.com/church/wp-content/uploads/2020/11/sunday.jpg
GEO:43.6822;-84.11054
X-APPLE-STRUCTURED-LOCATION;VALUE=URI;X-ADDRESS=Zion Auburn Lutheran Church 1557 Seidlers Road Auburn MI 46611 United States;X-APPLE-RADIUS=500;X-TITLE=1557 Seidlers Road:geo:-84.11054,43.6822
END:VEVENT
BEGIN:VEVENT
DTSTART;TZID=America/Detroit:20250913T173000
DTEND;TZID=America/Detroit:20250913T183000
DTSTAMP:20260421T120807
CREATED:20241001T150023Z
LAST-MODIFIED:20250627T122521Z
UID:10001298-1757784600-1757788200@zionauburn.com
SUMMARY:Saturday Night Service
DESCRIPTION:
URL:https://zionauburn.com/church/event/saturday-night-service/2025-09-13/
LOCATION:Zion Auburn Lutheran Church\, 1557 Seidlers Road\, Auburn\, MI\, 46611\, United States
CATEGORIES:Services
ATTACH;FMTTYPE=image/jpeg:https://zionauburn.com/church/wp-content/uploads/2020/11/sat.jpg
GEO:43.6822;-84.11054
X-APPLE-STRUCTURED-LOCATION;VALUE=URI;X-ADDRESS=Zion Auburn Lutheran Church 1557 Seidlers Road Auburn MI 46611 United States;X-APPLE-RADIUS=500;X-TITLE=1557 Seidlers Road:geo:-84.11054,43.6822
END:VEVENT
BEGIN:VEVENT
DTSTART;TZID=America/Detroit:20250907T090000
DTEND;TZID=America/Detroit:20250907T100000
DTSTAMP:20260421T120807
CREATED:20201106T135948Z
LAST-MODIFIED:20240313T153431Z
UID:10000459-1757235600-1757239200@zionauburn.com
SUMMARY:Sunday AM Worship
DESCRIPTION:
URL:https://zionauburn.com/church/event/sunday-am-worship/2025-09-07/
LOCATION:Zion Auburn Lutheran Church\, 1557 Seidlers Road\, Auburn\, MI\, 46611\, United States
CATEGORIES:Services
ATTACH;FMTTYPE=image/jpeg:https://zionauburn.com/church/wp-content/uploads/2020/11/sunday.jpg
GEO:43.6822;-84.11054
X-APPLE-STRUCTURED-LOCATION;VALUE=URI;X-ADDRESS=Zion Auburn Lutheran Church 1557 Seidlers Road Auburn MI 46611 United States;X-APPLE-RADIUS=500;X-TITLE=1557 Seidlers Road:geo:-84.11054,43.6822
END:VEVENT
BEGIN:VEVENT
DTSTART;TZID=America/Detroit:20250906T173000
DTEND;TZID=America/Detroit:20250906T183000
DTSTAMP:20260421T120807
CREATED:20241001T150023Z
LAST-MODIFIED:20250627T122521Z
UID:10001297-1757179800-1757183400@zionauburn.com
SUMMARY:Saturday Night Service
DESCRIPTION:
URL:https://zionauburn.com/church/event/saturday-night-service/2025-09-06/
LOCATION:Zion Auburn Lutheran Church\, 1557 Seidlers Road\, Auburn\, MI\, 46611\, United States
CATEGORIES:Services
ATTACH;FMTTYPE=image/jpeg:https://zionauburn.com/church/wp-content/uploads/2020/11/sat.jpg
GEO:43.6822;-84.11054
X-APPLE-STRUCTURED-LOCATION;VALUE=URI;X-ADDRESS=Zion Auburn Lutheran Church 1557 Seidlers Road Auburn MI 46611 United States;X-APPLE-RADIUS=500;X-TITLE=1557 Seidlers Road:geo:-84.11054,43.6822
END:VEVENT
BEGIN:VEVENT
DTSTART;TZID=America/Detroit:20250902T183000
DTEND;TZID=America/Detroit:20250902T210000
DTSTAMP:20260421T120807
CREATED:20250108T155006Z
LAST-MODIFIED:20250108T161042Z
UID:10001327-1756837800-1756846800@zionauburn.com
SUMMARY:Church Council
DESCRIPTION:
URL:https://zionauburn.com/church/event/church-council-2-3/2025-09-02/
LOCATION:Zion Auburn Lutheran Church\, 1557 Seidlers Road\, Auburn\, MI\, 46611\, United States
CATEGORIES:Events
GEO:43.6822;-84.11054
X-APPLE-STRUCTURED-LOCATION;VALUE=URI;X-ADDRESS=Zion Auburn Lutheran Church 1557 Seidlers Road Auburn MI 46611 United States;X-APPLE-RADIUS=500;X-TITLE=1557 Seidlers Road:geo:-84.11054,43.6822
END:VEVENT
BEGIN:VEVENT
DTSTART;TZID=America/Detroit:20250831T090000
DTEND;TZID=America/Detroit:20250831T100000
DTSTAMP:20260421T120807
CREATED:20201106T135948Z
LAST-MODIFIED:20240313T153431Z
UID:10000458-1756630800-1756634400@zionauburn.com
SUMMARY:Sunday AM Worship
DESCRIPTION:
URL:https://zionauburn.com/church/event/sunday-am-worship/2025-08-31/
LOCATION:Zion Auburn Lutheran Church\, 1557 Seidlers Road\, Auburn\, MI\, 46611\, United States
CATEGORIES:Services
ATTACH;FMTTYPE=image/jpeg:https://zionauburn.com/church/wp-content/uploads/2020/11/sunday.jpg
GEO:43.6822;-84.11054
X-APPLE-STRUCTURED-LOCATION;VALUE=URI;X-ADDRESS=Zion Auburn Lutheran Church 1557 Seidlers Road Auburn MI 46611 United States;X-APPLE-RADIUS=500;X-TITLE=1557 Seidlers Road:geo:-84.11054,43.6822
END:VEVENT
BEGIN:VEVENT
DTSTART;TZID=America/Detroit:20250830T173000
DTEND;TZID=America/Detroit:20250830T183000
DTSTAMP:20260421T120807
CREATED:20241001T150023Z
LAST-MODIFIED:20250627T122521Z
UID:10001296-1756575000-1756578600@zionauburn.com
SUMMARY:Saturday Night Service
DESCRIPTION:
URL:https://zionauburn.com/church/event/saturday-night-service/2025-08-30/
LOCATION:Zion Auburn Lutheran Church\, 1557 Seidlers Road\, Auburn\, MI\, 46611\, United States
CATEGORIES:Services
ATTACH;FMTTYPE=image/jpeg:https://zionauburn.com/church/wp-content/uploads/2020/11/sat.jpg
GEO:43.6822;-84.11054
X-APPLE-STRUCTURED-LOCATION;VALUE=URI;X-ADDRESS=Zion Auburn Lutheran Church 1557 Seidlers Road Auburn MI 46611 United States;X-APPLE-RADIUS=500;X-TITLE=1557 Seidlers Road:geo:-84.11054,43.6822
END:VEVENT
BEGIN:VEVENT
DTSTART;TZID=America/Detroit:20250825T180000
DTEND;TZID=America/Detroit:20250825T210000
DTSTAMP:20260421T120807
CREATED:20250627T122932Z
LAST-MODIFIED:20250627T122933Z
UID:10001387-1756144800-1756155600@zionauburn.com
SUMMARY:Board of Elders Meeting
DESCRIPTION:
URL:https://zionauburn.com/church/event/board-of-elders-meeting-2-2-2-2-2/2025-08-25/
LOCATION:Zion Auburn Lutheran Church\, 1557 Seidlers Road\, Auburn\, MI\, 46611\, United States
CATEGORIES:Meetings
GEO:43.6822;-84.11054
X-APPLE-STRUCTURED-LOCATION;VALUE=URI;X-ADDRESS=Zion Auburn Lutheran Church 1557 Seidlers Road Auburn MI 46611 United States;X-APPLE-RADIUS=500;X-TITLE=1557 Seidlers Road:geo:-84.11054,43.6822
END:VEVENT
BEGIN:VEVENT
DTSTART;TZID=America/Detroit:20250824T090000
DTEND;TZID=America/Detroit:20250824T100000
DTSTAMP:20260421T120807
CREATED:20201106T135948Z
LAST-MODIFIED:20240313T153431Z
UID:10000457-1756026000-1756029600@zionauburn.com
SUMMARY:Sunday AM Worship
DESCRIPTION:
URL:https://zionauburn.com/church/event/sunday-am-worship/2025-08-24/
LOCATION:Zion Auburn Lutheran Church\, 1557 Seidlers Road\, Auburn\, MI\, 46611\, United States
CATEGORIES:Services
ATTACH;FMTTYPE=image/jpeg:https://zionauburn.com/church/wp-content/uploads/2020/11/sunday.jpg
GEO:43.6822;-84.11054
X-APPLE-STRUCTURED-LOCATION;VALUE=URI;X-ADDRESS=Zion Auburn Lutheran Church 1557 Seidlers Road Auburn MI 46611 United States;X-APPLE-RADIUS=500;X-TITLE=1557 Seidlers Road:geo:-84.11054,43.6822
END:VEVENT
BEGIN:VEVENT
DTSTART;TZID=America/Detroit:20250823T173000
DTEND;TZID=America/Detroit:20250823T183000
DTSTAMP:20260421T120807
CREATED:20241001T150023Z
LAST-MODIFIED:20250627T122521Z
UID:10001295-1755970200-1755973800@zionauburn.com
SUMMARY:Saturday Night Service
DESCRIPTION:
URL:https://zionauburn.com/church/event/saturday-night-service/2025-08-23/
LOCATION:Zion Auburn Lutheran Church\, 1557 Seidlers Road\, Auburn\, MI\, 46611\, United States
CATEGORIES:Services
ATTACH;FMTTYPE=image/jpeg:https://zionauburn.com/church/wp-content/uploads/2020/11/sat.jpg
GEO:43.6822;-84.11054
X-APPLE-STRUCTURED-LOCATION;VALUE=URI;X-ADDRESS=Zion Auburn Lutheran Church 1557 Seidlers Road Auburn MI 46611 United States;X-APPLE-RADIUS=500;X-TITLE=1557 Seidlers Road:geo:-84.11054,43.6822
END:VEVENT
BEGIN:VEVENT
DTSTART;TZID=America/Detroit:20250817T090000
DTEND;TZID=America/Detroit:20250817T100000
DTSTAMP:20260421T120807
CREATED:20201106T135948Z
LAST-MODIFIED:20240313T153431Z
UID:10000456-1755421200-1755424800@zionauburn.com
SUMMARY:Sunday AM Worship
DESCRIPTION:
URL:https://zionauburn.com/church/event/sunday-am-worship/2025-08-17/
LOCATION:Zion Auburn Lutheran Church\, 1557 Seidlers Road\, Auburn\, MI\, 46611\, United States
CATEGORIES:Services
ATTACH;FMTTYPE=image/jpeg:https://zionauburn.com/church/wp-content/uploads/2020/11/sunday.jpg
GEO:43.6822;-84.11054
X-APPLE-STRUCTURED-LOCATION;VALUE=URI;X-ADDRESS=Zion Auburn Lutheran Church 1557 Seidlers Road Auburn MI 46611 United States;X-APPLE-RADIUS=500;X-TITLE=1557 Seidlers Road:geo:-84.11054,43.6822
END:VEVENT
BEGIN:VEVENT
DTSTART;TZID=America/Detroit:20250816T173000
DTEND;TZID=America/Detroit:20250816T183000
DTSTAMP:20260421T120807
CREATED:20241001T150023Z
LAST-MODIFIED:20250627T122521Z
UID:10001294-1755365400-1755369000@zionauburn.com
SUMMARY:Saturday Night Service
DESCRIPTION:
URL:https://zionauburn.com/church/event/saturday-night-service/2025-08-16/
LOCATION:Zion Auburn Lutheran Church\, 1557 Seidlers Road\, Auburn\, MI\, 46611\, United States
CATEGORIES:Services
ATTACH;FMTTYPE=image/jpeg:https://zionauburn.com/church/wp-content/uploads/2020/11/sat.jpg
GEO:43.6822;-84.11054
X-APPLE-STRUCTURED-LOCATION;VALUE=URI;X-ADDRESS=Zion Auburn Lutheran Church 1557 Seidlers Road Auburn MI 46611 United States;X-APPLE-RADIUS=500;X-TITLE=1557 Seidlers Road:geo:-84.11054,43.6822
END:VEVENT
BEGIN:VEVENT
DTSTART;TZID=America/Detroit:20250810T090000
DTEND;TZID=America/Detroit:20250810T100000
DTSTAMP:20260421T120807
CREATED:20201106T135948Z
LAST-MODIFIED:20240313T153431Z
UID:10000455-1754816400-1754820000@zionauburn.com
SUMMARY:Sunday AM Worship
DESCRIPTION:
URL:https://zionauburn.com/church/event/sunday-am-worship/2025-08-10/
LOCATION:Zion Auburn Lutheran Church\, 1557 Seidlers Road\, Auburn\, MI\, 46611\, United States
CATEGORIES:Services
ATTACH;FMTTYPE=image/jpeg:https://zionauburn.com/church/wp-content/uploads/2020/11/sunday.jpg
GEO:43.6822;-84.11054
X-APPLE-STRUCTURED-LOCATION;VALUE=URI;X-ADDRESS=Zion Auburn Lutheran Church 1557 Seidlers Road Auburn MI 46611 United States;X-APPLE-RADIUS=500;X-TITLE=1557 Seidlers Road:geo:-84.11054,43.6822
END:VEVENT
BEGIN:VEVENT
DTSTART;TZID=America/Detroit:20250809T173000
DTEND;TZID=America/Detroit:20250809T183000
DTSTAMP:20260421T120807
CREATED:20241001T150023Z
LAST-MODIFIED:20250627T122521Z
UID:10001293-1754760600-1754764200@zionauburn.com
SUMMARY:Saturday Night Service
DESCRIPTION:
URL:https://zionauburn.com/church/event/saturday-night-service/2025-08-09/
LOCATION:Zion Auburn Lutheran Church\, 1557 Seidlers Road\, Auburn\, MI\, 46611\, United States
CATEGORIES:Services
ATTACH;FMTTYPE=image/jpeg:https://zionauburn.com/church/wp-content/uploads/2020/11/sat.jpg
GEO:43.6822;-84.11054
X-APPLE-STRUCTURED-LOCATION;VALUE=URI;X-ADDRESS=Zion Auburn Lutheran Church 1557 Seidlers Road Auburn MI 46611 United States;X-APPLE-RADIUS=500;X-TITLE=1557 Seidlers Road:geo:-84.11054,43.6822
END:VEVENT
BEGIN:VEVENT
DTSTART;TZID=America/Detroit:20250805T183000
DTEND;TZID=America/Detroit:20250805T210000
DTSTAMP:20260421T120807
CREATED:20250108T155006Z
LAST-MODIFIED:20250108T161042Z
UID:10001326-1754418600-1754427600@zionauburn.com
SUMMARY:Church Council
DESCRIPTION:
URL:https://zionauburn.com/church/event/church-council-2-3/2025-08-05/
LOCATION:Zion Auburn Lutheran Church\, 1557 Seidlers Road\, Auburn\, MI\, 46611\, United States
CATEGORIES:Events
GEO:43.6822;-84.11054
X-APPLE-STRUCTURED-LOCATION;VALUE=URI;X-ADDRESS=Zion Auburn Lutheran Church 1557 Seidlers Road Auburn MI 46611 United States;X-APPLE-RADIUS=500;X-TITLE=1557 Seidlers Road:geo:-84.11054,43.6822
END:VEVENT
BEGIN:VEVENT
DTSTART;TZID=America/Detroit:20250803T090000
DTEND;TZID=America/Detroit:20250803T100000
DTSTAMP:20260421T120807
CREATED:20201106T135948Z
LAST-MODIFIED:20240313T153431Z
UID:10000454-1754211600-1754215200@zionauburn.com
SUMMARY:Sunday AM Worship
DESCRIPTION:
URL:https://zionauburn.com/church/event/sunday-am-worship/2025-08-03/
LOCATION:Zion Auburn Lutheran Church\, 1557 Seidlers Road\, Auburn\, MI\, 46611\, United States
CATEGORIES:Services
ATTACH;FMTTYPE=image/jpeg:https://zionauburn.com/church/wp-content/uploads/2020/11/sunday.jpg
GEO:43.6822;-84.11054
X-APPLE-STRUCTURED-LOCATION;VALUE=URI;X-ADDRESS=Zion Auburn Lutheran Church 1557 Seidlers Road Auburn MI 46611 United States;X-APPLE-RADIUS=500;X-TITLE=1557 Seidlers Road:geo:-84.11054,43.6822
END:VEVENT
BEGIN:VEVENT
DTSTART;TZID=America/Detroit:20250802T173000
DTEND;TZID=America/Detroit:20250802T183000
DTSTAMP:20260421T120807
CREATED:20241001T150023Z
LAST-MODIFIED:20250627T122521Z
UID:10001292-1754155800-1754159400@zionauburn.com
SUMMARY:Saturday Night Service
DESCRIPTION:
URL:https://zionauburn.com/church/event/saturday-night-service/2025-08-02/
LOCATION:Zion Auburn Lutheran Church\, 1557 Seidlers Road\, Auburn\, MI\, 46611\, United States
CATEGORIES:Services
ATTACH;FMTTYPE=image/jpeg:https://zionauburn.com/church/wp-content/uploads/2020/11/sat.jpg
GEO:43.6822;-84.11054
X-APPLE-STRUCTURED-LOCATION;VALUE=URI;X-ADDRESS=Zion Auburn Lutheran Church 1557 Seidlers Road Auburn MI 46611 United States;X-APPLE-RADIUS=500;X-TITLE=1557 Seidlers Road:geo:-84.11054,43.6822
END:VEVENT
BEGIN:VEVENT
DTSTART;TZID=America/Detroit:20250728T180000
DTEND;TZID=America/Detroit:20250728T210000
DTSTAMP:20260421T120807
CREATED:20250627T122932Z
LAST-MODIFIED:20250627T122933Z
UID:10001386-1753725600-1753736400@zionauburn.com
SUMMARY:Board of Elders Meeting
DESCRIPTION:
URL:https://zionauburn.com/church/event/board-of-elders-meeting-2-2-2-2-2/2025-07-28/
LOCATION:Zion Auburn Lutheran Church\, 1557 Seidlers Road\, Auburn\, MI\, 46611\, United States
CATEGORIES:Meetings
GEO:43.6822;-84.11054
X-APPLE-STRUCTURED-LOCATION;VALUE=URI;X-ADDRESS=Zion Auburn Lutheran Church 1557 Seidlers Road Auburn MI 46611 United States;X-APPLE-RADIUS=500;X-TITLE=1557 Seidlers Road:geo:-84.11054,43.6822
END:VEVENT
BEGIN:VEVENT
DTSTART;TZID=America/Detroit:20250727T090000
DTEND;TZID=America/Detroit:20250727T100000
DTSTAMP:20260421T120807
CREATED:20201106T135948Z
LAST-MODIFIED:20240313T153431Z
UID:10000453-1753606800-1753610400@zionauburn.com
SUMMARY:Sunday AM Worship
DESCRIPTION:
URL:https://zionauburn.com/church/event/sunday-am-worship/2025-07-27/
LOCATION:Zion Auburn Lutheran Church\, 1557 Seidlers Road\, Auburn\, MI\, 46611\, United States
CATEGORIES:Services
ATTACH;FMTTYPE=image/jpeg:https://zionauburn.com/church/wp-content/uploads/2020/11/sunday.jpg
GEO:43.6822;-84.11054
X-APPLE-STRUCTURED-LOCATION;VALUE=URI;X-ADDRESS=Zion Auburn Lutheran Church 1557 Seidlers Road Auburn MI 46611 United States;X-APPLE-RADIUS=500;X-TITLE=1557 Seidlers Road:geo:-84.11054,43.6822
END:VEVENT
BEGIN:VEVENT
DTSTART;TZID=America/Detroit:20250726T173000
DTEND;TZID=America/Detroit:20250726T183000
DTSTAMP:20260421T120807
CREATED:20241001T150023Z
LAST-MODIFIED:20250627T122521Z
UID:10001291-1753551000-1753554600@zionauburn.com
SUMMARY:Saturday Night Service
DESCRIPTION:
URL:https://zionauburn.com/church/event/saturday-night-service/2025-07-26/
LOCATION:Zion Auburn Lutheran Church\, 1557 Seidlers Road\, Auburn\, MI\, 46611\, United States
CATEGORIES:Services
ATTACH;FMTTYPE=image/jpeg:https://zionauburn.com/church/wp-content/uploads/2020/11/sat.jpg
GEO:43.6822;-84.11054
X-APPLE-STRUCTURED-LOCATION;VALUE=URI;X-ADDRESS=Zion Auburn Lutheran Church 1557 Seidlers Road Auburn MI 46611 United States;X-APPLE-RADIUS=500;X-TITLE=1557 Seidlers Road:geo:-84.11054,43.6822
END:VEVENT
BEGIN:VEVENT
DTSTART;TZID=America/Detroit:20250720T090000
DTEND;TZID=America/Detroit:20250720T100000
DTSTAMP:20260421T120807
CREATED:20201106T135948Z
LAST-MODIFIED:20240313T153431Z
UID:10000452-1753002000-1753005600@zionauburn.com
SUMMARY:Sunday AM Worship
DESCRIPTION:
URL:https://zionauburn.com/church/event/sunday-am-worship/2025-07-20/
LOCATION:Zion Auburn Lutheran Church\, 1557 Seidlers Road\, Auburn\, MI\, 46611\, United States
CATEGORIES:Services
ATTACH;FMTTYPE=image/jpeg:https://zionauburn.com/church/wp-content/uploads/2020/11/sunday.jpg
GEO:43.6822;-84.11054
X-APPLE-STRUCTURED-LOCATION;VALUE=URI;X-ADDRESS=Zion Auburn Lutheran Church 1557 Seidlers Road Auburn MI 46611 United States;X-APPLE-RADIUS=500;X-TITLE=1557 Seidlers Road:geo:-84.11054,43.6822
END:VEVENT
BEGIN:VEVENT
DTSTART;TZID=America/Detroit:20250719T173000
DTEND;TZID=America/Detroit:20250719T183000
DTSTAMP:20260421T120807
CREATED:20241001T150023Z
LAST-MODIFIED:20250627T122521Z
UID:10001290-1752946200-1752949800@zionauburn.com
SUMMARY:Saturday Night Service
DESCRIPTION:
URL:https://zionauburn.com/church/event/saturday-night-service/2025-07-19/
LOCATION:Zion Auburn Lutheran Church\, 1557 Seidlers Road\, Auburn\, MI\, 46611\, United States
CATEGORIES:Services
ATTACH;FMTTYPE=image/jpeg:https://zionauburn.com/church/wp-content/uploads/2020/11/sat.jpg
GEO:43.6822;-84.11054
X-APPLE-STRUCTURED-LOCATION;VALUE=URI;X-ADDRESS=Zion Auburn Lutheran Church 1557 Seidlers Road Auburn MI 46611 United States;X-APPLE-RADIUS=500;X-TITLE=1557 Seidlers Road:geo:-84.11054,43.6822
END:VEVENT
BEGIN:VEVENT
DTSTART;TZID=America/Detroit:20250713T090000
DTEND;TZID=America/Detroit:20250713T100000
DTSTAMP:20260421T120807
CREATED:20201106T135948Z
LAST-MODIFIED:20240313T153431Z
UID:10000451-1752397200-1752400800@zionauburn.com
SUMMARY:Sunday AM Worship
DESCRIPTION:
URL:https://zionauburn.com/church/event/sunday-am-worship/2025-07-13/
LOCATION:Zion Auburn Lutheran Church\, 1557 Seidlers Road\, Auburn\, MI\, 46611\, United States
CATEGORIES:Services
ATTACH;FMTTYPE=image/jpeg:https://zionauburn.com/church/wp-content/uploads/2020/11/sunday.jpg
GEO:43.6822;-84.11054
X-APPLE-STRUCTURED-LOCATION;VALUE=URI;X-ADDRESS=Zion Auburn Lutheran Church 1557 Seidlers Road Auburn MI 46611 United States;X-APPLE-RADIUS=500;X-TITLE=1557 Seidlers Road:geo:-84.11054,43.6822
END:VEVENT
BEGIN:VEVENT
DTSTART;TZID=America/Detroit:20250712T173000
DTEND;TZID=America/Detroit:20250712T183000
DTSTAMP:20260421T120807
CREATED:20241001T150023Z
LAST-MODIFIED:20250627T122521Z
UID:10001289-1752341400-1752345000@zionauburn.com
SUMMARY:Saturday Night Service
DESCRIPTION:
URL:https://zionauburn.com/church/event/saturday-night-service/2025-07-12/
LOCATION:Zion Auburn Lutheran Church\, 1557 Seidlers Road\, Auburn\, MI\, 46611\, United States
CATEGORIES:Services
ATTACH;FMTTYPE=image/jpeg:https://zionauburn.com/church/wp-content/uploads/2020/11/sat.jpg
GEO:43.6822;-84.11054
X-APPLE-STRUCTURED-LOCATION;VALUE=URI;X-ADDRESS=Zion Auburn Lutheran Church 1557 Seidlers Road Auburn MI 46611 United States;X-APPLE-RADIUS=500;X-TITLE=1557 Seidlers Road:geo:-84.11054,43.6822
END:VEVENT
BEGIN:VEVENT
DTSTART;TZID=America/Detroit:20250706T090000
DTEND;TZID=America/Detroit:20250706T100000
DTSTAMP:20260421T120807
CREATED:20201106T135948Z
LAST-MODIFIED:20240313T153431Z
UID:10000450-1751792400-1751796000@zionauburn.com
SUMMARY:Sunday AM Worship
DESCRIPTION:
URL:https://zionauburn.com/church/event/sunday-am-worship/2025-07-06/
LOCATION:Zion Auburn Lutheran Church\, 1557 Seidlers Road\, Auburn\, MI\, 46611\, United States
CATEGORIES:Services
ATTACH;FMTTYPE=image/jpeg:https://zionauburn.com/church/wp-content/uploads/2020/11/sunday.jpg
GEO:43.6822;-84.11054
X-APPLE-STRUCTURED-LOCATION;VALUE=URI;X-ADDRESS=Zion Auburn Lutheran Church 1557 Seidlers Road Auburn MI 46611 United States;X-APPLE-RADIUS=500;X-TITLE=1557 Seidlers Road:geo:-84.11054,43.6822
END:VEVENT
BEGIN:VEVENT
DTSTART;TZID=America/Detroit:20250705T173000
DTEND;TZID=America/Detroit:20250705T183000
DTSTAMP:20260421T120807
CREATED:20241001T150023Z
LAST-MODIFIED:20250627T122521Z
UID:10001288-1751736600-1751740200@zionauburn.com
SUMMARY:Saturday Night Service
DESCRIPTION:
URL:https://zionauburn.com/church/event/saturday-night-service/2025-07-05/
LOCATION:Zion Auburn Lutheran Church\, 1557 Seidlers Road\, Auburn\, MI\, 46611\, United States
CATEGORIES:Services
ATTACH;FMTTYPE=image/jpeg:https://zionauburn.com/church/wp-content/uploads/2020/11/sat.jpg
GEO:43.6822;-84.11054
X-APPLE-STRUCTURED-LOCATION;VALUE=URI;X-ADDRESS=Zion Auburn Lutheran Church 1557 Seidlers Road Auburn MI 46611 United States;X-APPLE-RADIUS=500;X-TITLE=1557 Seidlers Road:geo:-84.11054,43.6822
END:VEVENT
BEGIN:VEVENT
DTSTART;TZID=America/Detroit:20250701T183000
DTEND;TZID=America/Detroit:20250701T210000
DTSTAMP:20260421T120807
CREATED:20250108T155006Z
LAST-MODIFIED:20250108T161042Z
UID:10001325-1751394600-1751403600@zionauburn.com
SUMMARY:Church Council
DESCRIPTION:
URL:https://zionauburn.com/church/event/church-council-2-3/2025-07-01/
LOCATION:Zion Auburn Lutheran Church\, 1557 Seidlers Road\, Auburn\, MI\, 46611\, United States
CATEGORIES:Events
GEO:43.6822;-84.11054
X-APPLE-STRUCTURED-LOCATION;VALUE=URI;X-ADDRESS=Zion Auburn Lutheran Church 1557 Seidlers Road Auburn MI 46611 United States;X-APPLE-RADIUS=500;X-TITLE=1557 Seidlers Road:geo:-84.11054,43.6822
END:VEVENT
BEGIN:VEVENT
DTSTART;TZID=America/Detroit:20250629T090000
DTEND;TZID=America/Detroit:20250629T100000
DTSTAMP:20260421T120807
CREATED:20201106T135948Z
LAST-MODIFIED:20240313T153431Z
UID:10000449-1751187600-1751191200@zionauburn.com
SUMMARY:Sunday AM Worship
DESCRIPTION:
URL:https://zionauburn.com/church/event/sunday-am-worship/2025-06-29/
LOCATION:Zion Auburn Lutheran Church\, 1557 Seidlers Road\, Auburn\, MI\, 46611\, United States
CATEGORIES:Services
ATTACH;FMTTYPE=image/jpeg:https://zionauburn.com/church/wp-content/uploads/2020/11/sunday.jpg
GEO:43.6822;-84.11054
X-APPLE-STRUCTURED-LOCATION;VALUE=URI;X-ADDRESS=Zion Auburn Lutheran Church 1557 Seidlers Road Auburn MI 46611 United States;X-APPLE-RADIUS=500;X-TITLE=1557 Seidlers Road:geo:-84.11054,43.6822
END:VEVENT
BEGIN:VEVENT
DTSTART;TZID=America/Detroit:20250622T090000
DTEND;TZID=America/Detroit:20250622T100000
DTSTAMP:20260421T120807
CREATED:20201106T135948Z
LAST-MODIFIED:20240313T153431Z
UID:10000448-1750582800-1750586400@zionauburn.com
SUMMARY:Sunday AM Worship
DESCRIPTION:
URL:https://zionauburn.com/church/event/sunday-am-worship/2025-06-22/
LOCATION:Zion Auburn Lutheran Church\, 1557 Seidlers Road\, Auburn\, MI\, 46611\, United States
CATEGORIES:Services
ATTACH;FMTTYPE=image/jpeg:https://zionauburn.com/church/wp-content/uploads/2020/11/sunday.jpg
GEO:43.6822;-84.11054
X-APPLE-STRUCTURED-LOCATION;VALUE=URI;X-ADDRESS=Zion Auburn Lutheran Church 1557 Seidlers Road Auburn MI 46611 United States;X-APPLE-RADIUS=500;X-TITLE=1557 Seidlers Road:geo:-84.11054,43.6822
END:VEVENT
END:VCALENDAR