BEGIN:VCALENDAR
VERSION:2.0
PRODID:-//Zion Lutheran Church : Auburn, MI - ECPv6.2.3.2//NONSGML v1.0//EN
CALSCALE:GREGORIAN
METHOD:PUBLISH
X-ORIGINAL-URL:https://zionauburn.com/church
X-WR-CALDESC:Events for Zion Lutheran Church : Auburn, MI
REFRESH-INTERVAL;VALUE=DURATION:PT1H
X-Robots-Tag:noindex
X-PUBLISHED-TTL:PT1H
BEGIN:VTIMEZONE
TZID:America/Detroit
BEGIN:DAYLIGHT
TZOFFSETFROM:-0500
TZOFFSETTO:-0400
TZNAME:EDT
DTSTART:20290311T070000
END:DAYLIGHT
BEGIN:STANDARD
TZOFFSETFROM:-0400
TZOFFSETTO:-0500
TZNAME:EST
DTSTART:20291104T060000
END:STANDARD
BEGIN:DAYLIGHT
TZOFFSETFROM:-0500
TZOFFSETTO:-0400
TZNAME:EDT
DTSTART:20300310T070000
END:DAYLIGHT
BEGIN:STANDARD
TZOFFSETFROM:-0400
TZOFFSETTO:-0500
TZNAME:EST
DTSTART:20301103T060000
END:STANDARD
END:VTIMEZONE
BEGIN:VEVENT
DTSTART;TZID=America/Detroit:20290403T183000
DTEND;TZID=America/Detroit:20290403T210000
DTSTAMP:20260420T035954
CREATED:20250108T155006Z
LAST-MODIFIED:20250108T161042Z
UID:10001370-1869935400-1869944400@zionauburn.com
SUMMARY:Church Council
DESCRIPTION:
URL:https://zionauburn.com/church/event/church-council-2-3/2029-04-03/
LOCATION:Zion Auburn Lutheran Church\, 1557 Seidlers Road\, Auburn\, MI\, 46611\, United States
CATEGORIES:Events
GEO:43.6822;-84.11054
X-APPLE-STRUCTURED-LOCATION;VALUE=URI;X-ADDRESS=Zion Auburn Lutheran Church 1557 Seidlers Road Auburn MI 46611 United States;X-APPLE-RADIUS=500;X-TITLE=1557 Seidlers Road:geo:-84.11054,43.6822
END:VEVENT
BEGIN:VEVENT
DTSTART;TZID=America/Detroit:20290423T183000
DTEND;TZID=America/Detroit:20290423T213000
DTSTAMP:20260420T035954
CREATED:20251028T192336Z
LAST-MODIFIED:20251028T192725Z
UID:10001553-1871663400-1871674200@zionauburn.com
SUMMARY:Board of Elders Meeting*
DESCRIPTION:
URL:https://zionauburn.com/church/event/board-of-elders-meeting-2-2-2-2-2-4/2029-04-23/
LOCATION:Zion Auburn Lutheran Church\, 1557 Seidlers Road\, Auburn\, MI\, 46611\, United States
CATEGORIES:Meetings
GEO:43.6822;-84.11054
X-APPLE-STRUCTURED-LOCATION;VALUE=URI;X-ADDRESS=Zion Auburn Lutheran Church 1557 Seidlers Road Auburn MI 46611 United States;X-APPLE-RADIUS=500;X-TITLE=1557 Seidlers Road:geo:-84.11054,43.6822
END:VEVENT
BEGIN:VEVENT
DTSTART;TZID=America/Detroit:20290501T183000
DTEND;TZID=America/Detroit:20290501T210000
DTSTAMP:20260420T035954
CREATED:20250108T155006Z
LAST-MODIFIED:20250108T161042Z
UID:10001371-1872354600-1872363600@zionauburn.com
SUMMARY:Church Council
DESCRIPTION:
URL:https://zionauburn.com/church/event/church-council-2-3/2029-05-01/
LOCATION:Zion Auburn Lutheran Church\, 1557 Seidlers Road\, Auburn\, MI\, 46611\, United States
CATEGORIES:Events
GEO:43.6822;-84.11054
X-APPLE-STRUCTURED-LOCATION;VALUE=URI;X-ADDRESS=Zion Auburn Lutheran Church 1557 Seidlers Road Auburn MI 46611 United States;X-APPLE-RADIUS=500;X-TITLE=1557 Seidlers Road:geo:-84.11054,43.6822
END:VEVENT
BEGIN:VEVENT
DTSTART;TZID=America/Detroit:20290528T183000
DTEND;TZID=America/Detroit:20290528T213000
DTSTAMP:20260420T035954
CREATED:20251028T192336Z
LAST-MODIFIED:20251028T192725Z
UID:10001554-1874687400-1874698200@zionauburn.com
SUMMARY:Board of Elders Meeting*
DESCRIPTION:
URL:https://zionauburn.com/church/event/board-of-elders-meeting-2-2-2-2-2-4/2029-05-28/
LOCATION:Zion Auburn Lutheran Church\, 1557 Seidlers Road\, Auburn\, MI\, 46611\, United States
CATEGORIES:Meetings
GEO:43.6822;-84.11054
X-APPLE-STRUCTURED-LOCATION;VALUE=URI;X-ADDRESS=Zion Auburn Lutheran Church 1557 Seidlers Road Auburn MI 46611 United States;X-APPLE-RADIUS=500;X-TITLE=1557 Seidlers Road:geo:-84.11054,43.6822
END:VEVENT
BEGIN:VEVENT
DTSTART;TZID=America/Detroit:20290605T183000
DTEND;TZID=America/Detroit:20290605T210000
DTSTAMP:20260420T035954
CREATED:20250108T155006Z
LAST-MODIFIED:20250108T161042Z
UID:10001372-1875378600-1875387600@zionauburn.com
SUMMARY:Church Council
DESCRIPTION:
URL:https://zionauburn.com/church/event/church-council-2-3/2029-06-05/
LOCATION:Zion Auburn Lutheran Church\, 1557 Seidlers Road\, Auburn\, MI\, 46611\, United States
CATEGORIES:Events
GEO:43.6822;-84.11054
X-APPLE-STRUCTURED-LOCATION;VALUE=URI;X-ADDRESS=Zion Auburn Lutheran Church 1557 Seidlers Road Auburn MI 46611 United States;X-APPLE-RADIUS=500;X-TITLE=1557 Seidlers Road:geo:-84.11054,43.6822
END:VEVENT
BEGIN:VEVENT
DTSTART;TZID=America/Detroit:20290625T183000
DTEND;TZID=America/Detroit:20290625T213000
DTSTAMP:20260420T035954
CREATED:20251028T192336Z
LAST-MODIFIED:20251028T192725Z
UID:10001555-1877106600-1877117400@zionauburn.com
SUMMARY:Board of Elders Meeting*
DESCRIPTION:
URL:https://zionauburn.com/church/event/board-of-elders-meeting-2-2-2-2-2-4/2029-06-25/
LOCATION:Zion Auburn Lutheran Church\, 1557 Seidlers Road\, Auburn\, MI\, 46611\, United States
CATEGORIES:Meetings
GEO:43.6822;-84.11054
X-APPLE-STRUCTURED-LOCATION;VALUE=URI;X-ADDRESS=Zion Auburn Lutheran Church 1557 Seidlers Road Auburn MI 46611 United States;X-APPLE-RADIUS=500;X-TITLE=1557 Seidlers Road:geo:-84.11054,43.6822
END:VEVENT
BEGIN:VEVENT
DTSTART;TZID=America/Detroit:20290703T183000
DTEND;TZID=America/Detroit:20290703T210000
DTSTAMP:20260420T035954
CREATED:20250108T155006Z
LAST-MODIFIED:20250108T161042Z
UID:10001373-1877797800-1877806800@zionauburn.com
SUMMARY:Church Council
DESCRIPTION:
URL:https://zionauburn.com/church/event/church-council-2-3/2029-07-03/
LOCATION:Zion Auburn Lutheran Church\, 1557 Seidlers Road\, Auburn\, MI\, 46611\, United States
CATEGORIES:Events
GEO:43.6822;-84.11054
X-APPLE-STRUCTURED-LOCATION;VALUE=URI;X-ADDRESS=Zion Auburn Lutheran Church 1557 Seidlers Road Auburn MI 46611 United States;X-APPLE-RADIUS=500;X-TITLE=1557 Seidlers Road:geo:-84.11054,43.6822
END:VEVENT
BEGIN:VEVENT
DTSTART;TZID=America/Detroit:20290723T183000
DTEND;TZID=America/Detroit:20290723T213000
DTSTAMP:20260420T035954
CREATED:20251028T192336Z
LAST-MODIFIED:20251028T192725Z
UID:10001556-1879525800-1879536600@zionauburn.com
SUMMARY:Board of Elders Meeting*
DESCRIPTION:
URL:https://zionauburn.com/church/event/board-of-elders-meeting-2-2-2-2-2-4/2029-07-23/
LOCATION:Zion Auburn Lutheran Church\, 1557 Seidlers Road\, Auburn\, MI\, 46611\, United States
CATEGORIES:Meetings
GEO:43.6822;-84.11054
X-APPLE-STRUCTURED-LOCATION;VALUE=URI;X-ADDRESS=Zion Auburn Lutheran Church 1557 Seidlers Road Auburn MI 46611 United States;X-APPLE-RADIUS=500;X-TITLE=1557 Seidlers Road:geo:-84.11054,43.6822
END:VEVENT
BEGIN:VEVENT
DTSTART;TZID=America/Detroit:20290807T183000
DTEND;TZID=America/Detroit:20290807T210000
DTSTAMP:20260420T035954
CREATED:20250108T155006Z
LAST-MODIFIED:20250108T161042Z
UID:10001374-1880821800-1880830800@zionauburn.com
SUMMARY:Church Council
DESCRIPTION:
URL:https://zionauburn.com/church/event/church-council-2-3/2029-08-07/
LOCATION:Zion Auburn Lutheran Church\, 1557 Seidlers Road\, Auburn\, MI\, 46611\, United States
CATEGORIES:Events
GEO:43.6822;-84.11054
X-APPLE-STRUCTURED-LOCATION;VALUE=URI;X-ADDRESS=Zion Auburn Lutheran Church 1557 Seidlers Road Auburn MI 46611 United States;X-APPLE-RADIUS=500;X-TITLE=1557 Seidlers Road:geo:-84.11054,43.6822
END:VEVENT
BEGIN:VEVENT
DTSTART;TZID=America/Detroit:20290827T183000
DTEND;TZID=America/Detroit:20290827T213000
DTSTAMP:20260420T035954
CREATED:20251028T192336Z
LAST-MODIFIED:20251028T192725Z
UID:10001557-1882549800-1882560600@zionauburn.com
SUMMARY:Board of Elders Meeting*
DESCRIPTION:
URL:https://zionauburn.com/church/event/board-of-elders-meeting-2-2-2-2-2-4/2029-08-27/
LOCATION:Zion Auburn Lutheran Church\, 1557 Seidlers Road\, Auburn\, MI\, 46611\, United States
CATEGORIES:Meetings
GEO:43.6822;-84.11054
X-APPLE-STRUCTURED-LOCATION;VALUE=URI;X-ADDRESS=Zion Auburn Lutheran Church 1557 Seidlers Road Auburn MI 46611 United States;X-APPLE-RADIUS=500;X-TITLE=1557 Seidlers Road:geo:-84.11054,43.6822
END:VEVENT
BEGIN:VEVENT
DTSTART;TZID=America/Detroit:20290904T183000
DTEND;TZID=America/Detroit:20290904T210000
DTSTAMP:20260420T035954
CREATED:20250108T155006Z
LAST-MODIFIED:20250108T161042Z
UID:10001375-1883241000-1883250000@zionauburn.com
SUMMARY:Church Council
DESCRIPTION:
URL:https://zionauburn.com/church/event/church-council-2-3/2029-09-04/
LOCATION:Zion Auburn Lutheran Church\, 1557 Seidlers Road\, Auburn\, MI\, 46611\, United States
CATEGORIES:Events
GEO:43.6822;-84.11054
X-APPLE-STRUCTURED-LOCATION;VALUE=URI;X-ADDRESS=Zion Auburn Lutheran Church 1557 Seidlers Road Auburn MI 46611 United States;X-APPLE-RADIUS=500;X-TITLE=1557 Seidlers Road:geo:-84.11054,43.6822
END:VEVENT
BEGIN:VEVENT
DTSTART;TZID=America/Detroit:20290924T183000
DTEND;TZID=America/Detroit:20290924T213000
DTSTAMP:20260420T035954
CREATED:20251028T192336Z
LAST-MODIFIED:20251028T192725Z
UID:10001558-1884969000-1884979800@zionauburn.com
SUMMARY:Board of Elders Meeting*
DESCRIPTION:
URL:https://zionauburn.com/church/event/board-of-elders-meeting-2-2-2-2-2-4/2029-09-24/
LOCATION:Zion Auburn Lutheran Church\, 1557 Seidlers Road\, Auburn\, MI\, 46611\, United States
CATEGORIES:Meetings
GEO:43.6822;-84.11054
X-APPLE-STRUCTURED-LOCATION;VALUE=URI;X-ADDRESS=Zion Auburn Lutheran Church 1557 Seidlers Road Auburn MI 46611 United States;X-APPLE-RADIUS=500;X-TITLE=1557 Seidlers Road:geo:-84.11054,43.6822
END:VEVENT
BEGIN:VEVENT
DTSTART;TZID=America/Detroit:20291002T183000
DTEND;TZID=America/Detroit:20291002T210000
DTSTAMP:20260420T035954
CREATED:20250108T155006Z
LAST-MODIFIED:20250108T161042Z
UID:10001376-1885660200-1885669200@zionauburn.com
SUMMARY:Church Council
DESCRIPTION:
URL:https://zionauburn.com/church/event/church-council-2-3/2029-10-02/
LOCATION:Zion Auburn Lutheran Church\, 1557 Seidlers Road\, Auburn\, MI\, 46611\, United States
CATEGORIES:Events
GEO:43.6822;-84.11054
X-APPLE-STRUCTURED-LOCATION;VALUE=URI;X-ADDRESS=Zion Auburn Lutheran Church 1557 Seidlers Road Auburn MI 46611 United States;X-APPLE-RADIUS=500;X-TITLE=1557 Seidlers Road:geo:-84.11054,43.6822
END:VEVENT
BEGIN:VEVENT
DTSTART;TZID=America/Detroit:20291022T183000
DTEND;TZID=America/Detroit:20291022T213000
DTSTAMP:20260420T035954
CREATED:20251028T192336Z
LAST-MODIFIED:20251028T192725Z
UID:10001559-1887388200-1887399000@zionauburn.com
SUMMARY:Board of Elders Meeting*
DESCRIPTION:
URL:https://zionauburn.com/church/event/board-of-elders-meeting-2-2-2-2-2-4/2029-10-22/
LOCATION:Zion Auburn Lutheran Church\, 1557 Seidlers Road\, Auburn\, MI\, 46611\, United States
CATEGORIES:Meetings
GEO:43.6822;-84.11054
X-APPLE-STRUCTURED-LOCATION;VALUE=URI;X-ADDRESS=Zion Auburn Lutheran Church 1557 Seidlers Road Auburn MI 46611 United States;X-APPLE-RADIUS=500;X-TITLE=1557 Seidlers Road:geo:-84.11054,43.6822
END:VEVENT
BEGIN:VEVENT
DTSTART;TZID=America/Detroit:20291106T183000
DTEND;TZID=America/Detroit:20291106T210000
DTSTAMP:20260420T035954
CREATED:20250108T155006Z
LAST-MODIFIED:20250108T161042Z
UID:10001377-1888684200-1888693200@zionauburn.com
SUMMARY:Church Council
DESCRIPTION:
URL:https://zionauburn.com/church/event/church-council-2-3/2029-11-06/
LOCATION:Zion Auburn Lutheran Church\, 1557 Seidlers Road\, Auburn\, MI\, 46611\, United States
CATEGORIES:Events
GEO:43.6822;-84.11054
X-APPLE-STRUCTURED-LOCATION;VALUE=URI;X-ADDRESS=Zion Auburn Lutheran Church 1557 Seidlers Road Auburn MI 46611 United States;X-APPLE-RADIUS=500;X-TITLE=1557 Seidlers Road:geo:-84.11054,43.6822
END:VEVENT
BEGIN:VEVENT
DTSTART;TZID=America/Detroit:20291126T183000
DTEND;TZID=America/Detroit:20291126T213000
DTSTAMP:20260420T035954
CREATED:20251028T192336Z
LAST-MODIFIED:20251028T192725Z
UID:10001560-1890412200-1890423000@zionauburn.com
SUMMARY:Board of Elders Meeting*
DESCRIPTION:
URL:https://zionauburn.com/church/event/board-of-elders-meeting-2-2-2-2-2-4/2029-11-26/
LOCATION:Zion Auburn Lutheran Church\, 1557 Seidlers Road\, Auburn\, MI\, 46611\, United States
CATEGORIES:Meetings
GEO:43.6822;-84.11054
X-APPLE-STRUCTURED-LOCATION;VALUE=URI;X-ADDRESS=Zion Auburn Lutheran Church 1557 Seidlers Road Auburn MI 46611 United States;X-APPLE-RADIUS=500;X-TITLE=1557 Seidlers Road:geo:-84.11054,43.6822
END:VEVENT
BEGIN:VEVENT
DTSTART;TZID=America/Detroit:20291204T183000
DTEND;TZID=America/Detroit:20291204T210000
DTSTAMP:20260420T035954
CREATED:20250108T155006Z
LAST-MODIFIED:20250108T161042Z
UID:10001378-1891103400-1891112400@zionauburn.com
SUMMARY:Church Council
DESCRIPTION:
URL:https://zionauburn.com/church/event/church-council-2-3/2029-12-04/
LOCATION:Zion Auburn Lutheran Church\, 1557 Seidlers Road\, Auburn\, MI\, 46611\, United States
CATEGORIES:Events
GEO:43.6822;-84.11054
X-APPLE-STRUCTURED-LOCATION;VALUE=URI;X-ADDRESS=Zion Auburn Lutheran Church 1557 Seidlers Road Auburn MI 46611 United States;X-APPLE-RADIUS=500;X-TITLE=1557 Seidlers Road:geo:-84.11054,43.6822
END:VEVENT
BEGIN:VEVENT
DTSTART;TZID=America/Detroit:20291224T183000
DTEND;TZID=America/Detroit:20291224T213000
DTSTAMP:20260420T035954
CREATED:20251028T192336Z
LAST-MODIFIED:20251028T192725Z
UID:10001561-1892831400-1892842200@zionauburn.com
SUMMARY:Board of Elders Meeting*
DESCRIPTION:
URL:https://zionauburn.com/church/event/board-of-elders-meeting-2-2-2-2-2-4/2029-12-24/
LOCATION:Zion Auburn Lutheran Church\, 1557 Seidlers Road\, Auburn\, MI\, 46611\, United States
CATEGORIES:Meetings
GEO:43.6822;-84.11054
X-APPLE-STRUCTURED-LOCATION;VALUE=URI;X-ADDRESS=Zion Auburn Lutheran Church 1557 Seidlers Road Auburn MI 46611 United States;X-APPLE-RADIUS=500;X-TITLE=1557 Seidlers Road:geo:-84.11054,43.6822
END:VEVENT
BEGIN:VEVENT
DTSTART;TZID=America/Detroit:20300101T183000
DTEND;TZID=America/Detroit:20300101T210000
DTSTAMP:20260420T035954
CREATED:20250108T155006Z
LAST-MODIFIED:20250108T161042Z
UID:10001379-1893522600-1893531600@zionauburn.com
SUMMARY:Church Council
DESCRIPTION:
URL:https://zionauburn.com/church/event/church-council-2-3/2030-01-01/
LOCATION:Zion Auburn Lutheran Church\, 1557 Seidlers Road\, Auburn\, MI\, 46611\, United States
CATEGORIES:Events
GEO:43.6822;-84.11054
X-APPLE-STRUCTURED-LOCATION;VALUE=URI;X-ADDRESS=Zion Auburn Lutheran Church 1557 Seidlers Road Auburn MI 46611 United States;X-APPLE-RADIUS=500;X-TITLE=1557 Seidlers Road:geo:-84.11054,43.6822
END:VEVENT
BEGIN:VEVENT
DTSTART;TZID=America/Detroit:20300128T183000
DTEND;TZID=America/Detroit:20300128T213000
DTSTAMP:20260420T035954
CREATED:20251028T192336Z
LAST-MODIFIED:20251028T192725Z
UID:10001562-1895855400-1895866200@zionauburn.com
SUMMARY:Board of Elders Meeting*
DESCRIPTION:
URL:https://zionauburn.com/church/event/board-of-elders-meeting-2-2-2-2-2-4/2030-01-28/
LOCATION:Zion Auburn Lutheran Church\, 1557 Seidlers Road\, Auburn\, MI\, 46611\, United States
CATEGORIES:Meetings
GEO:43.6822;-84.11054
X-APPLE-STRUCTURED-LOCATION;VALUE=URI;X-ADDRESS=Zion Auburn Lutheran Church 1557 Seidlers Road Auburn MI 46611 United States;X-APPLE-RADIUS=500;X-TITLE=1557 Seidlers Road:geo:-84.11054,43.6822
END:VEVENT
BEGIN:VEVENT
DTSTART;TZID=America/Detroit:20300225T183000
DTEND;TZID=America/Detroit:20300225T213000
DTSTAMP:20260420T035954
CREATED:20251028T192336Z
LAST-MODIFIED:20251028T192725Z
UID:10001563-1898274600-1898285400@zionauburn.com
SUMMARY:Board of Elders Meeting*
DESCRIPTION:
URL:https://zionauburn.com/church/event/board-of-elders-meeting-2-2-2-2-2-4/2030-02-25/
LOCATION:Zion Auburn Lutheran Church\, 1557 Seidlers Road\, Auburn\, MI\, 46611\, United States
CATEGORIES:Meetings
GEO:43.6822;-84.11054
X-APPLE-STRUCTURED-LOCATION;VALUE=URI;X-ADDRESS=Zion Auburn Lutheran Church 1557 Seidlers Road Auburn MI 46611 United States;X-APPLE-RADIUS=500;X-TITLE=1557 Seidlers Road:geo:-84.11054,43.6822
END:VEVENT
BEGIN:VEVENT
DTSTART;TZID=America/Detroit:20300325T183000
DTEND;TZID=America/Detroit:20300325T213000
DTSTAMP:20260420T035954
CREATED:20251028T192336Z
LAST-MODIFIED:20251028T192725Z
UID:10001564-1900693800-1900704600@zionauburn.com
SUMMARY:Board of Elders Meeting*
DESCRIPTION:
URL:https://zionauburn.com/church/event/board-of-elders-meeting-2-2-2-2-2-4/2030-03-25/
LOCATION:Zion Auburn Lutheran Church\, 1557 Seidlers Road\, Auburn\, MI\, 46611\, United States
CATEGORIES:Meetings
GEO:43.6822;-84.11054
X-APPLE-STRUCTURED-LOCATION;VALUE=URI;X-ADDRESS=Zion Auburn Lutheran Church 1557 Seidlers Road Auburn MI 46611 United States;X-APPLE-RADIUS=500;X-TITLE=1557 Seidlers Road:geo:-84.11054,43.6822
END:VEVENT
BEGIN:VEVENT
DTSTART;TZID=America/Detroit:20300422T183000
DTEND;TZID=America/Detroit:20300422T213000
DTSTAMP:20260420T035954
CREATED:20251028T192336Z
LAST-MODIFIED:20251028T192725Z
UID:10001565-1903113000-1903123800@zionauburn.com
SUMMARY:Board of Elders Meeting*
DESCRIPTION:
URL:https://zionauburn.com/church/event/board-of-elders-meeting-2-2-2-2-2-4/2030-04-22/
LOCATION:Zion Auburn Lutheran Church\, 1557 Seidlers Road\, Auburn\, MI\, 46611\, United States
CATEGORIES:Meetings
GEO:43.6822;-84.11054
X-APPLE-STRUCTURED-LOCATION;VALUE=URI;X-ADDRESS=Zion Auburn Lutheran Church 1557 Seidlers Road Auburn MI 46611 United States;X-APPLE-RADIUS=500;X-TITLE=1557 Seidlers Road:geo:-84.11054,43.6822
END:VEVENT
BEGIN:VEVENT
DTSTART;TZID=America/Detroit:20300527T183000
DTEND;TZID=America/Detroit:20300527T213000
DTSTAMP:20260420T035954
CREATED:20251028T192336Z
LAST-MODIFIED:20251028T192725Z
UID:10001566-1906137000-1906147800@zionauburn.com
SUMMARY:Board of Elders Meeting*
DESCRIPTION:
URL:https://zionauburn.com/church/event/board-of-elders-meeting-2-2-2-2-2-4/2030-05-27/
LOCATION:Zion Auburn Lutheran Church\, 1557 Seidlers Road\, Auburn\, MI\, 46611\, United States
CATEGORIES:Meetings
GEO:43.6822;-84.11054
X-APPLE-STRUCTURED-LOCATION;VALUE=URI;X-ADDRESS=Zion Auburn Lutheran Church 1557 Seidlers Road Auburn MI 46611 United States;X-APPLE-RADIUS=500;X-TITLE=1557 Seidlers Road:geo:-84.11054,43.6822
END:VEVENT
BEGIN:VEVENT
DTSTART;TZID=America/Detroit:20300624T183000
DTEND;TZID=America/Detroit:20300624T213000
DTSTAMP:20260420T035954
CREATED:20251028T192336Z
LAST-MODIFIED:20251028T192725Z
UID:10001567-1908556200-1908567000@zionauburn.com
SUMMARY:Board of Elders Meeting*
DESCRIPTION:
URL:https://zionauburn.com/church/event/board-of-elders-meeting-2-2-2-2-2-4/2030-06-24/
LOCATION:Zion Auburn Lutheran Church\, 1557 Seidlers Road\, Auburn\, MI\, 46611\, United States
CATEGORIES:Meetings
GEO:43.6822;-84.11054
X-APPLE-STRUCTURED-LOCATION;VALUE=URI;X-ADDRESS=Zion Auburn Lutheran Church 1557 Seidlers Road Auburn MI 46611 United States;X-APPLE-RADIUS=500;X-TITLE=1557 Seidlers Road:geo:-84.11054,43.6822
END:VEVENT
BEGIN:VEVENT
DTSTART;TZID=America/Detroit:20300722T183000
DTEND;TZID=America/Detroit:20300722T213000
DTSTAMP:20260420T035954
CREATED:20251028T192336Z
LAST-MODIFIED:20251028T192725Z
UID:10001568-1910975400-1910986200@zionauburn.com
SUMMARY:Board of Elders Meeting*
DESCRIPTION:
URL:https://zionauburn.com/church/event/board-of-elders-meeting-2-2-2-2-2-4/2030-07-22/
LOCATION:Zion Auburn Lutheran Church\, 1557 Seidlers Road\, Auburn\, MI\, 46611\, United States
CATEGORIES:Meetings
GEO:43.6822;-84.11054
X-APPLE-STRUCTURED-LOCATION;VALUE=URI;X-ADDRESS=Zion Auburn Lutheran Church 1557 Seidlers Road Auburn MI 46611 United States;X-APPLE-RADIUS=500;X-TITLE=1557 Seidlers Road:geo:-84.11054,43.6822
END:VEVENT
BEGIN:VEVENT
DTSTART;TZID=America/Detroit:20300826T183000
DTEND;TZID=America/Detroit:20300826T213000
DTSTAMP:20260420T035954
CREATED:20251028T192336Z
LAST-MODIFIED:20251028T192725Z
UID:10001569-1913999400-1914010200@zionauburn.com
SUMMARY:Board of Elders Meeting*
DESCRIPTION:
URL:https://zionauburn.com/church/event/board-of-elders-meeting-2-2-2-2-2-4/2030-08-26/
LOCATION:Zion Auburn Lutheran Church\, 1557 Seidlers Road\, Auburn\, MI\, 46611\, United States
CATEGORIES:Meetings
GEO:43.6822;-84.11054
X-APPLE-STRUCTURED-LOCATION;VALUE=URI;X-ADDRESS=Zion Auburn Lutheran Church 1557 Seidlers Road Auburn MI 46611 United States;X-APPLE-RADIUS=500;X-TITLE=1557 Seidlers Road:geo:-84.11054,43.6822
END:VEVENT
BEGIN:VEVENT
DTSTART;TZID=America/Detroit:20300923T183000
DTEND;TZID=America/Detroit:20300923T213000
DTSTAMP:20260420T035954
CREATED:20251028T192336Z
LAST-MODIFIED:20251028T192725Z
UID:10001570-1916418600-1916429400@zionauburn.com
SUMMARY:Board of Elders Meeting*
DESCRIPTION:
URL:https://zionauburn.com/church/event/board-of-elders-meeting-2-2-2-2-2-4/2030-09-23/
LOCATION:Zion Auburn Lutheran Church\, 1557 Seidlers Road\, Auburn\, MI\, 46611\, United States
CATEGORIES:Meetings
GEO:43.6822;-84.11054
X-APPLE-STRUCTURED-LOCATION;VALUE=URI;X-ADDRESS=Zion Auburn Lutheran Church 1557 Seidlers Road Auburn MI 46611 United States;X-APPLE-RADIUS=500;X-TITLE=1557 Seidlers Road:geo:-84.11054,43.6822
END:VEVENT
BEGIN:VEVENT
DTSTART;TZID=America/Detroit:20301028T183000
DTEND;TZID=America/Detroit:20301028T213000
DTSTAMP:20260420T035954
CREATED:20251028T192336Z
LAST-MODIFIED:20251028T192725Z
UID:10001571-1919442600-1919453400@zionauburn.com
SUMMARY:Board of Elders Meeting*
DESCRIPTION:
URL:https://zionauburn.com/church/event/board-of-elders-meeting-2-2-2-2-2-4/2030-10-28/
LOCATION:Zion Auburn Lutheran Church\, 1557 Seidlers Road\, Auburn\, MI\, 46611\, United States
CATEGORIES:Meetings
GEO:43.6822;-84.11054
X-APPLE-STRUCTURED-LOCATION;VALUE=URI;X-ADDRESS=Zion Auburn Lutheran Church 1557 Seidlers Road Auburn MI 46611 United States;X-APPLE-RADIUS=500;X-TITLE=1557 Seidlers Road:geo:-84.11054,43.6822
END:VEVENT
END:VCALENDAR