BEGIN:VCALENDAR
VERSION:2.0
PRODID:-//Zion Lutheran Church : Auburn, MI - ECPv6.2.3.2//NONSGML v1.0//EN
CALSCALE:GREGORIAN
METHOD:PUBLISH
X-ORIGINAL-URL:https://zionauburn.com/church
X-WR-CALDESC:Events for Zion Lutheran Church : Auburn, MI
REFRESH-INTERVAL;VALUE=DURATION:PT1H
X-Robots-Tag:noindex
X-PUBLISHED-TTL:PT1H
BEGIN:VTIMEZONE
TZID:America/Detroit
BEGIN:DAYLIGHT
TZOFFSETFROM:-0500
TZOFFSETTO:-0400
TZNAME:EDT
DTSTART:20280312T070000
END:DAYLIGHT
BEGIN:STANDARD
TZOFFSETFROM:-0400
TZOFFSETTO:-0500
TZNAME:EST
DTSTART:20281105T060000
END:STANDARD
BEGIN:DAYLIGHT
TZOFFSETFROM:-0500
TZOFFSETTO:-0400
TZNAME:EDT
DTSTART:20290311T070000
END:DAYLIGHT
BEGIN:STANDARD
TZOFFSETFROM:-0400
TZOFFSETTO:-0500
TZNAME:EST
DTSTART:20291104T060000
END:STANDARD
END:VTIMEZONE
BEGIN:VEVENT
DTSTART;TZID=America/Detroit:20280903T090000
DTEND;TZID=America/Detroit:20280903T100000
DTSTAMP:20260419T224508
CREATED:20201106T135948Z
LAST-MODIFIED:20240313T153431Z
UID:10001081-1851584400-1851588000@zionauburn.com
SUMMARY:Sunday AM Worship
DESCRIPTION:
URL:https://zionauburn.com/church/event/sunday-am-worship/2028-09-03/
LOCATION:Zion Auburn Lutheran Church\, 1557 Seidlers Road\, Auburn\, MI\, 46611\, United States
CATEGORIES:Services
ATTACH;FMTTYPE=image/jpeg:https://zionauburn.com/church/wp-content/uploads/2020/11/sunday.jpg
GEO:43.6822;-84.11054
X-APPLE-STRUCTURED-LOCATION;VALUE=URI;X-ADDRESS=Zion Auburn Lutheran Church 1557 Seidlers Road Auburn MI 46611 United States;X-APPLE-RADIUS=500;X-TITLE=1557 Seidlers Road:geo:-84.11054,43.6822
END:VEVENT
BEGIN:VEVENT
DTSTART;TZID=America/Detroit:20280905T183000
DTEND;TZID=America/Detroit:20280905T210000
DTSTAMP:20260419T224508
CREATED:20250108T155006Z
LAST-MODIFIED:20250108T161042Z
UID:10001363-1851791400-1851800400@zionauburn.com
SUMMARY:Church Council
DESCRIPTION:
URL:https://zionauburn.com/church/event/church-council-2-3/2028-09-05/
LOCATION:Zion Auburn Lutheran Church\, 1557 Seidlers Road\, Auburn\, MI\, 46611\, United States
CATEGORIES:Events
GEO:43.6822;-84.11054
X-APPLE-STRUCTURED-LOCATION;VALUE=URI;X-ADDRESS=Zion Auburn Lutheran Church 1557 Seidlers Road Auburn MI 46611 United States;X-APPLE-RADIUS=500;X-TITLE=1557 Seidlers Road:geo:-84.11054,43.6822
END:VEVENT
BEGIN:VEVENT
DTSTART;TZID=America/Detroit:20280910T090000
DTEND;TZID=America/Detroit:20280910T100000
DTSTAMP:20260419T224508
CREATED:20201106T135948Z
LAST-MODIFIED:20240313T153431Z
UID:10001082-1852189200-1852192800@zionauburn.com
SUMMARY:Sunday AM Worship
DESCRIPTION:
URL:https://zionauburn.com/church/event/sunday-am-worship/2028-09-10/
LOCATION:Zion Auburn Lutheran Church\, 1557 Seidlers Road\, Auburn\, MI\, 46611\, United States
CATEGORIES:Services
ATTACH;FMTTYPE=image/jpeg:https://zionauburn.com/church/wp-content/uploads/2020/11/sunday.jpg
GEO:43.6822;-84.11054
X-APPLE-STRUCTURED-LOCATION;VALUE=URI;X-ADDRESS=Zion Auburn Lutheran Church 1557 Seidlers Road Auburn MI 46611 United States;X-APPLE-RADIUS=500;X-TITLE=1557 Seidlers Road:geo:-84.11054,43.6822
END:VEVENT
BEGIN:VEVENT
DTSTART;TZID=America/Detroit:20280917T090000
DTEND;TZID=America/Detroit:20280917T100000
DTSTAMP:20260419T224508
CREATED:20201106T135948Z
LAST-MODIFIED:20240313T153431Z
UID:10001083-1852794000-1852797600@zionauburn.com
SUMMARY:Sunday AM Worship
DESCRIPTION:
URL:https://zionauburn.com/church/event/sunday-am-worship/2028-09-17/
LOCATION:Zion Auburn Lutheran Church\, 1557 Seidlers Road\, Auburn\, MI\, 46611\, United States
CATEGORIES:Services
ATTACH;FMTTYPE=image/jpeg:https://zionauburn.com/church/wp-content/uploads/2020/11/sunday.jpg
GEO:43.6822;-84.11054
X-APPLE-STRUCTURED-LOCATION;VALUE=URI;X-ADDRESS=Zion Auburn Lutheran Church 1557 Seidlers Road Auburn MI 46611 United States;X-APPLE-RADIUS=500;X-TITLE=1557 Seidlers Road:geo:-84.11054,43.6822
END:VEVENT
BEGIN:VEVENT
DTSTART;TZID=America/Detroit:20280924T090000
DTEND;TZID=America/Detroit:20280924T100000
DTSTAMP:20260419T224508
CREATED:20201106T135948Z
LAST-MODIFIED:20240313T153431Z
UID:10001084-1853398800-1853402400@zionauburn.com
SUMMARY:Sunday AM Worship
DESCRIPTION:
URL:https://zionauburn.com/church/event/sunday-am-worship/2028-09-24/
LOCATION:Zion Auburn Lutheran Church\, 1557 Seidlers Road\, Auburn\, MI\, 46611\, United States
CATEGORIES:Services
ATTACH;FMTTYPE=image/jpeg:https://zionauburn.com/church/wp-content/uploads/2020/11/sunday.jpg
GEO:43.6822;-84.11054
X-APPLE-STRUCTURED-LOCATION;VALUE=URI;X-ADDRESS=Zion Auburn Lutheran Church 1557 Seidlers Road Auburn MI 46611 United States;X-APPLE-RADIUS=500;X-TITLE=1557 Seidlers Road:geo:-84.11054,43.6822
END:VEVENT
BEGIN:VEVENT
DTSTART;TZID=America/Detroit:20280925T183000
DTEND;TZID=America/Detroit:20280925T213000
DTSTAMP:20260419T224508
CREATED:20251028T192336Z
LAST-MODIFIED:20251028T192725Z
UID:10001546-1853519400-1853530200@zionauburn.com
SUMMARY:Board of Elders Meeting*
DESCRIPTION:
URL:https://zionauburn.com/church/event/board-of-elders-meeting-2-2-2-2-2-4/2028-09-25/
LOCATION:Zion Auburn Lutheran Church\, 1557 Seidlers Road\, Auburn\, MI\, 46611\, United States
CATEGORIES:Meetings
GEO:43.6822;-84.11054
X-APPLE-STRUCTURED-LOCATION;VALUE=URI;X-ADDRESS=Zion Auburn Lutheran Church 1557 Seidlers Road Auburn MI 46611 United States;X-APPLE-RADIUS=500;X-TITLE=1557 Seidlers Road:geo:-84.11054,43.6822
END:VEVENT
BEGIN:VEVENT
DTSTART;TZID=America/Detroit:20281001T090000
DTEND;TZID=America/Detroit:20281001T100000
DTSTAMP:20260419T224508
CREATED:20201106T135948Z
LAST-MODIFIED:20240313T153431Z
UID:10001085-1854003600-1854007200@zionauburn.com
SUMMARY:Sunday AM Worship
DESCRIPTION:
URL:https://zionauburn.com/church/event/sunday-am-worship/2028-10-01/
LOCATION:Zion Auburn Lutheran Church\, 1557 Seidlers Road\, Auburn\, MI\, 46611\, United States
CATEGORIES:Services
ATTACH;FMTTYPE=image/jpeg:https://zionauburn.com/church/wp-content/uploads/2020/11/sunday.jpg
GEO:43.6822;-84.11054
X-APPLE-STRUCTURED-LOCATION;VALUE=URI;X-ADDRESS=Zion Auburn Lutheran Church 1557 Seidlers Road Auburn MI 46611 United States;X-APPLE-RADIUS=500;X-TITLE=1557 Seidlers Road:geo:-84.11054,43.6822
END:VEVENT
BEGIN:VEVENT
DTSTART;TZID=America/Detroit:20281003T183000
DTEND;TZID=America/Detroit:20281003T210000
DTSTAMP:20260419T224508
CREATED:20250108T155006Z
LAST-MODIFIED:20250108T161042Z
UID:10001364-1854210600-1854219600@zionauburn.com
SUMMARY:Church Council
DESCRIPTION:
URL:https://zionauburn.com/church/event/church-council-2-3/2028-10-03/
LOCATION:Zion Auburn Lutheran Church\, 1557 Seidlers Road\, Auburn\, MI\, 46611\, United States
CATEGORIES:Events
GEO:43.6822;-84.11054
X-APPLE-STRUCTURED-LOCATION;VALUE=URI;X-ADDRESS=Zion Auburn Lutheran Church 1557 Seidlers Road Auburn MI 46611 United States;X-APPLE-RADIUS=500;X-TITLE=1557 Seidlers Road:geo:-84.11054,43.6822
END:VEVENT
BEGIN:VEVENT
DTSTART;TZID=America/Detroit:20281008T090000
DTEND;TZID=America/Detroit:20281008T100000
DTSTAMP:20260419T224508
CREATED:20201106T135948Z
LAST-MODIFIED:20240313T153431Z
UID:10001086-1854608400-1854612000@zionauburn.com
SUMMARY:Sunday AM Worship
DESCRIPTION:
URL:https://zionauburn.com/church/event/sunday-am-worship/2028-10-08/
LOCATION:Zion Auburn Lutheran Church\, 1557 Seidlers Road\, Auburn\, MI\, 46611\, United States
CATEGORIES:Services
ATTACH;FMTTYPE=image/jpeg:https://zionauburn.com/church/wp-content/uploads/2020/11/sunday.jpg
GEO:43.6822;-84.11054
X-APPLE-STRUCTURED-LOCATION;VALUE=URI;X-ADDRESS=Zion Auburn Lutheran Church 1557 Seidlers Road Auburn MI 46611 United States;X-APPLE-RADIUS=500;X-TITLE=1557 Seidlers Road:geo:-84.11054,43.6822
END:VEVENT
BEGIN:VEVENT
DTSTART;TZID=America/Detroit:20281015T090000
DTEND;TZID=America/Detroit:20281015T100000
DTSTAMP:20260419T224508
CREATED:20201106T135948Z
LAST-MODIFIED:20240313T153431Z
UID:10001087-1855213200-1855216800@zionauburn.com
SUMMARY:Sunday AM Worship
DESCRIPTION:
URL:https://zionauburn.com/church/event/sunday-am-worship/2028-10-15/
LOCATION:Zion Auburn Lutheran Church\, 1557 Seidlers Road\, Auburn\, MI\, 46611\, United States
CATEGORIES:Services
ATTACH;FMTTYPE=image/jpeg:https://zionauburn.com/church/wp-content/uploads/2020/11/sunday.jpg
GEO:43.6822;-84.11054
X-APPLE-STRUCTURED-LOCATION;VALUE=URI;X-ADDRESS=Zion Auburn Lutheran Church 1557 Seidlers Road Auburn MI 46611 United States;X-APPLE-RADIUS=500;X-TITLE=1557 Seidlers Road:geo:-84.11054,43.6822
END:VEVENT
BEGIN:VEVENT
DTSTART;TZID=America/Detroit:20281022T090000
DTEND;TZID=America/Detroit:20281022T100000
DTSTAMP:20260419T224508
CREATED:20201106T135948Z
LAST-MODIFIED:20240313T153431Z
UID:10001088-1855818000-1855821600@zionauburn.com
SUMMARY:Sunday AM Worship
DESCRIPTION:
URL:https://zionauburn.com/church/event/sunday-am-worship/2028-10-22/
LOCATION:Zion Auburn Lutheran Church\, 1557 Seidlers Road\, Auburn\, MI\, 46611\, United States
CATEGORIES:Services
ATTACH;FMTTYPE=image/jpeg:https://zionauburn.com/church/wp-content/uploads/2020/11/sunday.jpg
GEO:43.6822;-84.11054
X-APPLE-STRUCTURED-LOCATION;VALUE=URI;X-ADDRESS=Zion Auburn Lutheran Church 1557 Seidlers Road Auburn MI 46611 United States;X-APPLE-RADIUS=500;X-TITLE=1557 Seidlers Road:geo:-84.11054,43.6822
END:VEVENT
BEGIN:VEVENT
DTSTART;TZID=America/Detroit:20281023T183000
DTEND;TZID=America/Detroit:20281023T213000
DTSTAMP:20260419T224508
CREATED:20251028T192336Z
LAST-MODIFIED:20251028T192725Z
UID:10001547-1855938600-1855949400@zionauburn.com
SUMMARY:Board of Elders Meeting*
DESCRIPTION:
URL:https://zionauburn.com/church/event/board-of-elders-meeting-2-2-2-2-2-4/2028-10-23/
LOCATION:Zion Auburn Lutheran Church\, 1557 Seidlers Road\, Auburn\, MI\, 46611\, United States
CATEGORIES:Meetings
GEO:43.6822;-84.11054
X-APPLE-STRUCTURED-LOCATION;VALUE=URI;X-ADDRESS=Zion Auburn Lutheran Church 1557 Seidlers Road Auburn MI 46611 United States;X-APPLE-RADIUS=500;X-TITLE=1557 Seidlers Road:geo:-84.11054,43.6822
END:VEVENT
BEGIN:VEVENT
DTSTART;TZID=America/Detroit:20281029T090000
DTEND;TZID=America/Detroit:20281029T100000
DTSTAMP:20260419T224508
CREATED:20201106T135948Z
LAST-MODIFIED:20240313T153431Z
UID:10001089-1856422800-1856426400@zionauburn.com
SUMMARY:Sunday AM Worship
DESCRIPTION:
URL:https://zionauburn.com/church/event/sunday-am-worship/2028-10-29/
LOCATION:Zion Auburn Lutheran Church\, 1557 Seidlers Road\, Auburn\, MI\, 46611\, United States
CATEGORIES:Services
ATTACH;FMTTYPE=image/jpeg:https://zionauburn.com/church/wp-content/uploads/2020/11/sunday.jpg
GEO:43.6822;-84.11054
X-APPLE-STRUCTURED-LOCATION;VALUE=URI;X-ADDRESS=Zion Auburn Lutheran Church 1557 Seidlers Road Auburn MI 46611 United States;X-APPLE-RADIUS=500;X-TITLE=1557 Seidlers Road:geo:-84.11054,43.6822
END:VEVENT
BEGIN:VEVENT
DTSTART;TZID=America/Detroit:20281105T090000
DTEND;TZID=America/Detroit:20281105T100000
DTSTAMP:20260419T224508
CREATED:20201106T135948Z
LAST-MODIFIED:20240313T153431Z
UID:10001090-1857027600-1857031200@zionauburn.com
SUMMARY:Sunday AM Worship
DESCRIPTION:
URL:https://zionauburn.com/church/event/sunday-am-worship/2028-11-05/
LOCATION:Zion Auburn Lutheran Church\, 1557 Seidlers Road\, Auburn\, MI\, 46611\, United States
CATEGORIES:Services
ATTACH;FMTTYPE=image/jpeg:https://zionauburn.com/church/wp-content/uploads/2020/11/sunday.jpg
GEO:43.6822;-84.11054
X-APPLE-STRUCTURED-LOCATION;VALUE=URI;X-ADDRESS=Zion Auburn Lutheran Church 1557 Seidlers Road Auburn MI 46611 United States;X-APPLE-RADIUS=500;X-TITLE=1557 Seidlers Road:geo:-84.11054,43.6822
END:VEVENT
BEGIN:VEVENT
DTSTART;TZID=America/Detroit:20281107T183000
DTEND;TZID=America/Detroit:20281107T210000
DTSTAMP:20260419T224508
CREATED:20250108T155006Z
LAST-MODIFIED:20250108T161042Z
UID:10001365-1857234600-1857243600@zionauburn.com
SUMMARY:Church Council
DESCRIPTION:
URL:https://zionauburn.com/church/event/church-council-2-3/2028-11-07/
LOCATION:Zion Auburn Lutheran Church\, 1557 Seidlers Road\, Auburn\, MI\, 46611\, United States
CATEGORIES:Events
GEO:43.6822;-84.11054
X-APPLE-STRUCTURED-LOCATION;VALUE=URI;X-ADDRESS=Zion Auburn Lutheran Church 1557 Seidlers Road Auburn MI 46611 United States;X-APPLE-RADIUS=500;X-TITLE=1557 Seidlers Road:geo:-84.11054,43.6822
END:VEVENT
BEGIN:VEVENT
DTSTART;TZID=America/Detroit:20281112T090000
DTEND;TZID=America/Detroit:20281112T100000
DTSTAMP:20260419T224508
CREATED:20201106T135948Z
LAST-MODIFIED:20240313T153431Z
UID:10001091-1857632400-1857636000@zionauburn.com
SUMMARY:Sunday AM Worship
DESCRIPTION:
URL:https://zionauburn.com/church/event/sunday-am-worship/2028-11-12/
LOCATION:Zion Auburn Lutheran Church\, 1557 Seidlers Road\, Auburn\, MI\, 46611\, United States
CATEGORIES:Services
ATTACH;FMTTYPE=image/jpeg:https://zionauburn.com/church/wp-content/uploads/2020/11/sunday.jpg
GEO:43.6822;-84.11054
X-APPLE-STRUCTURED-LOCATION;VALUE=URI;X-ADDRESS=Zion Auburn Lutheran Church 1557 Seidlers Road Auburn MI 46611 United States;X-APPLE-RADIUS=500;X-TITLE=1557 Seidlers Road:geo:-84.11054,43.6822
END:VEVENT
BEGIN:VEVENT
DTSTART;TZID=America/Detroit:20281119T090000
DTEND;TZID=America/Detroit:20281119T100000
DTSTAMP:20260419T224508
CREATED:20201106T135948Z
LAST-MODIFIED:20240313T153431Z
UID:10001092-1858237200-1858240800@zionauburn.com
SUMMARY:Sunday AM Worship
DESCRIPTION:
URL:https://zionauburn.com/church/event/sunday-am-worship/2028-11-19/
LOCATION:Zion Auburn Lutheran Church\, 1557 Seidlers Road\, Auburn\, MI\, 46611\, United States
CATEGORIES:Services
ATTACH;FMTTYPE=image/jpeg:https://zionauburn.com/church/wp-content/uploads/2020/11/sunday.jpg
GEO:43.6822;-84.11054
X-APPLE-STRUCTURED-LOCATION;VALUE=URI;X-ADDRESS=Zion Auburn Lutheran Church 1557 Seidlers Road Auburn MI 46611 United States;X-APPLE-RADIUS=500;X-TITLE=1557 Seidlers Road:geo:-84.11054,43.6822
END:VEVENT
BEGIN:VEVENT
DTSTART;TZID=America/Detroit:20281126T090000
DTEND;TZID=America/Detroit:20281126T100000
DTSTAMP:20260419T224508
CREATED:20201106T135948Z
LAST-MODIFIED:20240313T153431Z
UID:10001093-1858842000-1858845600@zionauburn.com
SUMMARY:Sunday AM Worship
DESCRIPTION:
URL:https://zionauburn.com/church/event/sunday-am-worship/2028-11-26/
LOCATION:Zion Auburn Lutheran Church\, 1557 Seidlers Road\, Auburn\, MI\, 46611\, United States
CATEGORIES:Services
ATTACH;FMTTYPE=image/jpeg:https://zionauburn.com/church/wp-content/uploads/2020/11/sunday.jpg
GEO:43.6822;-84.11054
X-APPLE-STRUCTURED-LOCATION;VALUE=URI;X-ADDRESS=Zion Auburn Lutheran Church 1557 Seidlers Road Auburn MI 46611 United States;X-APPLE-RADIUS=500;X-TITLE=1557 Seidlers Road:geo:-84.11054,43.6822
END:VEVENT
BEGIN:VEVENT
DTSTART;TZID=America/Detroit:20281127T183000
DTEND;TZID=America/Detroit:20281127T213000
DTSTAMP:20260419T224508
CREATED:20251028T192336Z
LAST-MODIFIED:20251028T192725Z
UID:10001548-1858962600-1858973400@zionauburn.com
SUMMARY:Board of Elders Meeting*
DESCRIPTION:
URL:https://zionauburn.com/church/event/board-of-elders-meeting-2-2-2-2-2-4/2028-11-27/
LOCATION:Zion Auburn Lutheran Church\, 1557 Seidlers Road\, Auburn\, MI\, 46611\, United States
CATEGORIES:Meetings
GEO:43.6822;-84.11054
X-APPLE-STRUCTURED-LOCATION;VALUE=URI;X-ADDRESS=Zion Auburn Lutheran Church 1557 Seidlers Road Auburn MI 46611 United States;X-APPLE-RADIUS=500;X-TITLE=1557 Seidlers Road:geo:-84.11054,43.6822
END:VEVENT
BEGIN:VEVENT
DTSTART;TZID=America/Detroit:20281203T090000
DTEND;TZID=America/Detroit:20281203T100000
DTSTAMP:20260419T224508
CREATED:20201106T135948Z
LAST-MODIFIED:20240313T153431Z
UID:10001094-1859446800-1859450400@zionauburn.com
SUMMARY:Sunday AM Worship
DESCRIPTION:
URL:https://zionauburn.com/church/event/sunday-am-worship/2028-12-03/
LOCATION:Zion Auburn Lutheran Church\, 1557 Seidlers Road\, Auburn\, MI\, 46611\, United States
CATEGORIES:Services
ATTACH;FMTTYPE=image/jpeg:https://zionauburn.com/church/wp-content/uploads/2020/11/sunday.jpg
GEO:43.6822;-84.11054
X-APPLE-STRUCTURED-LOCATION;VALUE=URI;X-ADDRESS=Zion Auburn Lutheran Church 1557 Seidlers Road Auburn MI 46611 United States;X-APPLE-RADIUS=500;X-TITLE=1557 Seidlers Road:geo:-84.11054,43.6822
END:VEVENT
BEGIN:VEVENT
DTSTART;TZID=America/Detroit:20281205T183000
DTEND;TZID=America/Detroit:20281205T210000
DTSTAMP:20260419T224508
CREATED:20250108T155006Z
LAST-MODIFIED:20250108T161042Z
UID:10001366-1859653800-1859662800@zionauburn.com
SUMMARY:Church Council
DESCRIPTION:
URL:https://zionauburn.com/church/event/church-council-2-3/2028-12-05/
LOCATION:Zion Auburn Lutheran Church\, 1557 Seidlers Road\, Auburn\, MI\, 46611\, United States
CATEGORIES:Events
GEO:43.6822;-84.11054
X-APPLE-STRUCTURED-LOCATION;VALUE=URI;X-ADDRESS=Zion Auburn Lutheran Church 1557 Seidlers Road Auburn MI 46611 United States;X-APPLE-RADIUS=500;X-TITLE=1557 Seidlers Road:geo:-84.11054,43.6822
END:VEVENT
BEGIN:VEVENT
DTSTART;TZID=America/Detroit:20281210T090000
DTEND;TZID=America/Detroit:20281210T100000
DTSTAMP:20260419T224508
CREATED:20201106T135948Z
LAST-MODIFIED:20240313T153431Z
UID:10001095-1860051600-1860055200@zionauburn.com
SUMMARY:Sunday AM Worship
DESCRIPTION:
URL:https://zionauburn.com/church/event/sunday-am-worship/2028-12-10/
LOCATION:Zion Auburn Lutheran Church\, 1557 Seidlers Road\, Auburn\, MI\, 46611\, United States
CATEGORIES:Services
ATTACH;FMTTYPE=image/jpeg:https://zionauburn.com/church/wp-content/uploads/2020/11/sunday.jpg
GEO:43.6822;-84.11054
X-APPLE-STRUCTURED-LOCATION;VALUE=URI;X-ADDRESS=Zion Auburn Lutheran Church 1557 Seidlers Road Auburn MI 46611 United States;X-APPLE-RADIUS=500;X-TITLE=1557 Seidlers Road:geo:-84.11054,43.6822
END:VEVENT
BEGIN:VEVENT
DTSTART;TZID=America/Detroit:20281217T090000
DTEND;TZID=America/Detroit:20281217T100000
DTSTAMP:20260419T224508
CREATED:20201106T135948Z
LAST-MODIFIED:20240313T153431Z
UID:10001096-1860656400-1860660000@zionauburn.com
SUMMARY:Sunday AM Worship
DESCRIPTION:
URL:https://zionauburn.com/church/event/sunday-am-worship/2028-12-17/
LOCATION:Zion Auburn Lutheran Church\, 1557 Seidlers Road\, Auburn\, MI\, 46611\, United States
CATEGORIES:Services
ATTACH;FMTTYPE=image/jpeg:https://zionauburn.com/church/wp-content/uploads/2020/11/sunday.jpg
GEO:43.6822;-84.11054
X-APPLE-STRUCTURED-LOCATION;VALUE=URI;X-ADDRESS=Zion Auburn Lutheran Church 1557 Seidlers Road Auburn MI 46611 United States;X-APPLE-RADIUS=500;X-TITLE=1557 Seidlers Road:geo:-84.11054,43.6822
END:VEVENT
BEGIN:VEVENT
DTSTART;TZID=America/Detroit:20281224T090000
DTEND;TZID=America/Detroit:20281224T100000
DTSTAMP:20260419T224508
CREATED:20201106T135948Z
LAST-MODIFIED:20240313T153431Z
UID:10001097-1861261200-1861264800@zionauburn.com
SUMMARY:Sunday AM Worship
DESCRIPTION:
URL:https://zionauburn.com/church/event/sunday-am-worship/2028-12-24/
LOCATION:Zion Auburn Lutheran Church\, 1557 Seidlers Road\, Auburn\, MI\, 46611\, United States
CATEGORIES:Services
ATTACH;FMTTYPE=image/jpeg:https://zionauburn.com/church/wp-content/uploads/2020/11/sunday.jpg
GEO:43.6822;-84.11054
X-APPLE-STRUCTURED-LOCATION;VALUE=URI;X-ADDRESS=Zion Auburn Lutheran Church 1557 Seidlers Road Auburn MI 46611 United States;X-APPLE-RADIUS=500;X-TITLE=1557 Seidlers Road:geo:-84.11054,43.6822
END:VEVENT
BEGIN:VEVENT
DTSTART;TZID=America/Detroit:20281225T183000
DTEND;TZID=America/Detroit:20281225T213000
DTSTAMP:20260419T224508
CREATED:20251028T192336Z
LAST-MODIFIED:20251028T192725Z
UID:10001549-1861381800-1861392600@zionauburn.com
SUMMARY:Board of Elders Meeting*
DESCRIPTION:
URL:https://zionauburn.com/church/event/board-of-elders-meeting-2-2-2-2-2-4/2028-12-25/
LOCATION:Zion Auburn Lutheran Church\, 1557 Seidlers Road\, Auburn\, MI\, 46611\, United States
CATEGORIES:Meetings
GEO:43.6822;-84.11054
X-APPLE-STRUCTURED-LOCATION;VALUE=URI;X-ADDRESS=Zion Auburn Lutheran Church 1557 Seidlers Road Auburn MI 46611 United States;X-APPLE-RADIUS=500;X-TITLE=1557 Seidlers Road:geo:-84.11054,43.6822
END:VEVENT
BEGIN:VEVENT
DTSTART;TZID=America/Detroit:20281231T090000
DTEND;TZID=America/Detroit:20281231T100000
DTSTAMP:20260419T224508
CREATED:20201106T135948Z
LAST-MODIFIED:20240313T153431Z
UID:10001098-1861866000-1861869600@zionauburn.com
SUMMARY:Sunday AM Worship
DESCRIPTION:
URL:https://zionauburn.com/church/event/sunday-am-worship/2028-12-31/
LOCATION:Zion Auburn Lutheran Church\, 1557 Seidlers Road\, Auburn\, MI\, 46611\, United States
CATEGORIES:Services
ATTACH;FMTTYPE=image/jpeg:https://zionauburn.com/church/wp-content/uploads/2020/11/sunday.jpg
GEO:43.6822;-84.11054
X-APPLE-STRUCTURED-LOCATION;VALUE=URI;X-ADDRESS=Zion Auburn Lutheran Church 1557 Seidlers Road Auburn MI 46611 United States;X-APPLE-RADIUS=500;X-TITLE=1557 Seidlers Road:geo:-84.11054,43.6822
END:VEVENT
BEGIN:VEVENT
DTSTART;TZID=America/Detroit:20290102T183000
DTEND;TZID=America/Detroit:20290102T210000
DTSTAMP:20260419T224508
CREATED:20250108T155006Z
LAST-MODIFIED:20250108T161042Z
UID:10001367-1862073000-1862082000@zionauburn.com
SUMMARY:Church Council
DESCRIPTION:
URL:https://zionauburn.com/church/event/church-council-2-3/2029-01-02/
LOCATION:Zion Auburn Lutheran Church\, 1557 Seidlers Road\, Auburn\, MI\, 46611\, United States
CATEGORIES:Events
GEO:43.6822;-84.11054
X-APPLE-STRUCTURED-LOCATION;VALUE=URI;X-ADDRESS=Zion Auburn Lutheran Church 1557 Seidlers Road Auburn MI 46611 United States;X-APPLE-RADIUS=500;X-TITLE=1557 Seidlers Road:geo:-84.11054,43.6822
END:VEVENT
BEGIN:VEVENT
DTSTART;TZID=America/Detroit:20290107T090000
DTEND;TZID=America/Detroit:20290107T100000
DTSTAMP:20260419T224508
CREATED:20201106T135948Z
LAST-MODIFIED:20240313T153431Z
UID:10001099-1862470800-1862474400@zionauburn.com
SUMMARY:Sunday AM Worship
DESCRIPTION:
URL:https://zionauburn.com/church/event/sunday-am-worship/2029-01-07/
LOCATION:Zion Auburn Lutheran Church\, 1557 Seidlers Road\, Auburn\, MI\, 46611\, United States
CATEGORIES:Services
ATTACH;FMTTYPE=image/jpeg:https://zionauburn.com/church/wp-content/uploads/2020/11/sunday.jpg
GEO:43.6822;-84.11054
X-APPLE-STRUCTURED-LOCATION;VALUE=URI;X-ADDRESS=Zion Auburn Lutheran Church 1557 Seidlers Road Auburn MI 46611 United States;X-APPLE-RADIUS=500;X-TITLE=1557 Seidlers Road:geo:-84.11054,43.6822
END:VEVENT
BEGIN:VEVENT
DTSTART;TZID=America/Detroit:20290114T090000
DTEND;TZID=America/Detroit:20290114T100000
DTSTAMP:20260419T224508
CREATED:20201106T135948Z
LAST-MODIFIED:20240313T153431Z
UID:10001100-1863075600-1863079200@zionauburn.com
SUMMARY:Sunday AM Worship
DESCRIPTION:
URL:https://zionauburn.com/church/event/sunday-am-worship/2029-01-14/
LOCATION:Zion Auburn Lutheran Church\, 1557 Seidlers Road\, Auburn\, MI\, 46611\, United States
CATEGORIES:Services
ATTACH;FMTTYPE=image/jpeg:https://zionauburn.com/church/wp-content/uploads/2020/11/sunday.jpg
GEO:43.6822;-84.11054
X-APPLE-STRUCTURED-LOCATION;VALUE=URI;X-ADDRESS=Zion Auburn Lutheran Church 1557 Seidlers Road Auburn MI 46611 United States;X-APPLE-RADIUS=500;X-TITLE=1557 Seidlers Road:geo:-84.11054,43.6822
END:VEVENT
BEGIN:VEVENT
DTSTART;TZID=America/Detroit:20290121T090000
DTEND;TZID=America/Detroit:20290121T100000
DTSTAMP:20260419T224508
CREATED:20201106T135948Z
LAST-MODIFIED:20240313T153431Z
UID:10001101-1863680400-1863684000@zionauburn.com
SUMMARY:Sunday AM Worship
DESCRIPTION:
URL:https://zionauburn.com/church/event/sunday-am-worship/2029-01-21/
LOCATION:Zion Auburn Lutheran Church\, 1557 Seidlers Road\, Auburn\, MI\, 46611\, United States
CATEGORIES:Services
ATTACH;FMTTYPE=image/jpeg:https://zionauburn.com/church/wp-content/uploads/2020/11/sunday.jpg
GEO:43.6822;-84.11054
X-APPLE-STRUCTURED-LOCATION;VALUE=URI;X-ADDRESS=Zion Auburn Lutheran Church 1557 Seidlers Road Auburn MI 46611 United States;X-APPLE-RADIUS=500;X-TITLE=1557 Seidlers Road:geo:-84.11054,43.6822
END:VEVENT
END:VCALENDAR