BEGIN:VCALENDAR
VERSION:2.0
PRODID:-//Zion Lutheran Church : Auburn, MI - ECPv6.2.3.2//NONSGML v1.0//EN
CALSCALE:GREGORIAN
METHOD:PUBLISH
X-WR-CALNAME:Zion Lutheran Church : Auburn, MI
X-ORIGINAL-URL:https://zionauburn.com/church
X-WR-CALDESC:Events for Zion Lutheran Church : Auburn, MI
REFRESH-INTERVAL;VALUE=DURATION:PT1H
X-Robots-Tag:noindex
X-PUBLISHED-TTL:PT1H
BEGIN:VTIMEZONE
TZID:America/Detroit
BEGIN:DAYLIGHT
TZOFFSETFROM:-0500
TZOFFSETTO:-0400
TZNAME:EDT
DTSTART:20250309T070000
END:DAYLIGHT
BEGIN:STANDARD
TZOFFSETFROM:-0400
TZOFFSETTO:-0500
TZNAME:EST
DTSTART:20251102T060000
END:STANDARD
END:VTIMEZONE
BEGIN:VEVENT
DTSTART;TZID=America/Detroit:20250112T090000
DTEND;TZID=America/Detroit:20250112T100000
DTSTAMP:20260419T154738
CREATED:20201106T135948Z
LAST-MODIFIED:20240313T153431Z
UID:10000425-1736672400-1736676000@zionauburn.com
SUMMARY:Sunday AM Worship
DESCRIPTION:
URL:https://zionauburn.com/church/event/sunday-am-worship/2025-01-12/
LOCATION:Zion Auburn Lutheran Church\, 1557 Seidlers Road\, Auburn\, MI\, 46611\, United States
CATEGORIES:Services
ATTACH;FMTTYPE=image/jpeg:https://zionauburn.com/church/wp-content/uploads/2020/11/sunday.jpg
GEO:43.6822;-84.11054
X-APPLE-STRUCTURED-LOCATION;VALUE=URI;X-ADDRESS=Zion Auburn Lutheran Church 1557 Seidlers Road Auburn MI 46611 United States;X-APPLE-RADIUS=500;X-TITLE=1557 Seidlers Road:geo:-84.11054,43.6822
END:VEVENT
BEGIN:VEVENT
DTSTART;TZID=America/Detroit:20250118T173000
DTEND;TZID=America/Detroit:20250118T183000
DTSTAMP:20260419T154738
CREATED:20241001T150023Z
LAST-MODIFIED:20250627T122521Z
UID:10001264-1737221400-1737225000@zionauburn.com
SUMMARY:Saturday Night Service
DESCRIPTION:
URL:https://zionauburn.com/church/event/saturday-night-service/2025-01-18/
LOCATION:Zion Auburn Lutheran Church\, 1557 Seidlers Road\, Auburn\, MI\, 46611\, United States
CATEGORIES:Services
ATTACH;FMTTYPE=image/jpeg:https://zionauburn.com/church/wp-content/uploads/2020/11/sat.jpg
GEO:43.6822;-84.11054
X-APPLE-STRUCTURED-LOCATION;VALUE=URI;X-ADDRESS=Zion Auburn Lutheran Church 1557 Seidlers Road Auburn MI 46611 United States;X-APPLE-RADIUS=500;X-TITLE=1557 Seidlers Road:geo:-84.11054,43.6822
END:VEVENT
BEGIN:VEVENT
DTSTART;TZID=America/Detroit:20250119T090000
DTEND;TZID=America/Detroit:20250119T100000
DTSTAMP:20260419T154738
CREATED:20201106T135948Z
LAST-MODIFIED:20240313T153431Z
UID:10000426-1737277200-1737280800@zionauburn.com
SUMMARY:Sunday AM Worship
DESCRIPTION:
URL:https://zionauburn.com/church/event/sunday-am-worship/2025-01-19/
LOCATION:Zion Auburn Lutheran Church\, 1557 Seidlers Road\, Auburn\, MI\, 46611\, United States
CATEGORIES:Services
ATTACH;FMTTYPE=image/jpeg:https://zionauburn.com/church/wp-content/uploads/2020/11/sunday.jpg
GEO:43.6822;-84.11054
X-APPLE-STRUCTURED-LOCATION;VALUE=URI;X-ADDRESS=Zion Auburn Lutheran Church 1557 Seidlers Road Auburn MI 46611 United States;X-APPLE-RADIUS=500;X-TITLE=1557 Seidlers Road:geo:-84.11054,43.6822
END:VEVENT
BEGIN:VEVENT
DTSTART;TZID=America/Detroit:20250125T173000
DTEND;TZID=America/Detroit:20250125T183000
DTSTAMP:20260419T154738
CREATED:20241001T150023Z
LAST-MODIFIED:20250627T122521Z
UID:10001265-1737826200-1737829800@zionauburn.com
SUMMARY:Saturday Night Service
DESCRIPTION:
URL:https://zionauburn.com/church/event/saturday-night-service/2025-01-25/
LOCATION:Zion Auburn Lutheran Church\, 1557 Seidlers Road\, Auburn\, MI\, 46611\, United States
CATEGORIES:Services
ATTACH;FMTTYPE=image/jpeg:https://zionauburn.com/church/wp-content/uploads/2020/11/sat.jpg
GEO:43.6822;-84.11054
X-APPLE-STRUCTURED-LOCATION;VALUE=URI;X-ADDRESS=Zion Auburn Lutheran Church 1557 Seidlers Road Auburn MI 46611 United States;X-APPLE-RADIUS=500;X-TITLE=1557 Seidlers Road:geo:-84.11054,43.6822
END:VEVENT
BEGIN:VEVENT
DTSTART;TZID=America/Detroit:20250126T090000
DTEND;TZID=America/Detroit:20250126T100000
DTSTAMP:20260419T154738
CREATED:20201106T135948Z
LAST-MODIFIED:20240313T153431Z
UID:10000427-1737882000-1737885600@zionauburn.com
SUMMARY:Sunday AM Worship
DESCRIPTION:
URL:https://zionauburn.com/church/event/sunday-am-worship/2025-01-26/
LOCATION:Zion Auburn Lutheran Church\, 1557 Seidlers Road\, Auburn\, MI\, 46611\, United States
CATEGORIES:Services
ATTACH;FMTTYPE=image/jpeg:https://zionauburn.com/church/wp-content/uploads/2020/11/sunday.jpg
GEO:43.6822;-84.11054
X-APPLE-STRUCTURED-LOCATION;VALUE=URI;X-ADDRESS=Zion Auburn Lutheran Church 1557 Seidlers Road Auburn MI 46611 United States;X-APPLE-RADIUS=500;X-TITLE=1557 Seidlers Road:geo:-84.11054,43.6822
END:VEVENT
BEGIN:VEVENT
DTSTART;TZID=America/Detroit:20250127T180000
DTEND;TZID=America/Detroit:20250127T210000
DTSTAMP:20260419T154738
CREATED:20250108T155415Z
LAST-MODIFIED:20250109T161717Z
UID:10001380-1738000800-1738011600@zionauburn.com
SUMMARY:Board of Elders Meeting
DESCRIPTION:
URL:https://zionauburn.com/church/event/board-of-elders-meeting-2-2-2-2/2025-01-27/
LOCATION:Zion Auburn Lutheran Church\, 1557 Seidlers Road\, Auburn\, MI\, 46611\, United States
CATEGORIES:Meetings
GEO:43.6822;-84.11054
X-APPLE-STRUCTURED-LOCATION;VALUE=URI;X-ADDRESS=Zion Auburn Lutheran Church 1557 Seidlers Road Auburn MI 46611 United States;X-APPLE-RADIUS=500;X-TITLE=1557 Seidlers Road:geo:-84.11054,43.6822
END:VEVENT
BEGIN:VEVENT
DTSTART;TZID=America/Detroit:20250201T173000
DTEND;TZID=America/Detroit:20250201T183000
DTSTAMP:20260419T154738
CREATED:20241001T150023Z
LAST-MODIFIED:20250627T122521Z
UID:10001266-1738431000-1738434600@zionauburn.com
SUMMARY:Saturday Night Service
DESCRIPTION:
URL:https://zionauburn.com/church/event/saturday-night-service/2025-02-01/
LOCATION:Zion Auburn Lutheran Church\, 1557 Seidlers Road\, Auburn\, MI\, 46611\, United States
CATEGORIES:Services
ATTACH;FMTTYPE=image/jpeg:https://zionauburn.com/church/wp-content/uploads/2020/11/sat.jpg
GEO:43.6822;-84.11054
X-APPLE-STRUCTURED-LOCATION;VALUE=URI;X-ADDRESS=Zion Auburn Lutheran Church 1557 Seidlers Road Auburn MI 46611 United States;X-APPLE-RADIUS=500;X-TITLE=1557 Seidlers Road:geo:-84.11054,43.6822
END:VEVENT
BEGIN:VEVENT
DTSTART;TZID=America/Detroit:20250202T090000
DTEND;TZID=America/Detroit:20250202T100000
DTSTAMP:20260419T154738
CREATED:20201106T135948Z
LAST-MODIFIED:20240313T153431Z
UID:10000428-1738486800-1738490400@zionauburn.com
SUMMARY:Sunday AM Worship
DESCRIPTION:
URL:https://zionauburn.com/church/event/sunday-am-worship/2025-02-02/
LOCATION:Zion Auburn Lutheran Church\, 1557 Seidlers Road\, Auburn\, MI\, 46611\, United States
CATEGORIES:Services
ATTACH;FMTTYPE=image/jpeg:https://zionauburn.com/church/wp-content/uploads/2020/11/sunday.jpg
GEO:43.6822;-84.11054
X-APPLE-STRUCTURED-LOCATION;VALUE=URI;X-ADDRESS=Zion Auburn Lutheran Church 1557 Seidlers Road Auburn MI 46611 United States;X-APPLE-RADIUS=500;X-TITLE=1557 Seidlers Road:geo:-84.11054,43.6822
END:VEVENT
BEGIN:VEVENT
DTSTART;TZID=America/Detroit:20250204T183000
DTEND;TZID=America/Detroit:20250204T210000
DTSTAMP:20260419T154738
CREATED:20250108T155006Z
LAST-MODIFIED:20250108T161042Z
UID:10001320-1738693800-1738702800@zionauburn.com
SUMMARY:Church Council
DESCRIPTION:
URL:https://zionauburn.com/church/event/church-council-2-3/2025-02-04/
LOCATION:Zion Auburn Lutheran Church\, 1557 Seidlers Road\, Auburn\, MI\, 46611\, United States
CATEGORIES:Events
GEO:43.6822;-84.11054
X-APPLE-STRUCTURED-LOCATION;VALUE=URI;X-ADDRESS=Zion Auburn Lutheran Church 1557 Seidlers Road Auburn MI 46611 United States;X-APPLE-RADIUS=500;X-TITLE=1557 Seidlers Road:geo:-84.11054,43.6822
END:VEVENT
BEGIN:VEVENT
DTSTART;TZID=America/Detroit:20250208T173000
DTEND;TZID=America/Detroit:20250208T183000
DTSTAMP:20260419T154738
CREATED:20241001T150023Z
LAST-MODIFIED:20250627T122521Z
UID:10001267-1739035800-1739039400@zionauburn.com
SUMMARY:Saturday Night Service
DESCRIPTION:
URL:https://zionauburn.com/church/event/saturday-night-service/2025-02-08/
LOCATION:Zion Auburn Lutheran Church\, 1557 Seidlers Road\, Auburn\, MI\, 46611\, United States
CATEGORIES:Services
ATTACH;FMTTYPE=image/jpeg:https://zionauburn.com/church/wp-content/uploads/2020/11/sat.jpg
GEO:43.6822;-84.11054
X-APPLE-STRUCTURED-LOCATION;VALUE=URI;X-ADDRESS=Zion Auburn Lutheran Church 1557 Seidlers Road Auburn MI 46611 United States;X-APPLE-RADIUS=500;X-TITLE=1557 Seidlers Road:geo:-84.11054,43.6822
END:VEVENT
BEGIN:VEVENT
DTSTART;TZID=America/Detroit:20250209T090000
DTEND;TZID=America/Detroit:20250209T100000
DTSTAMP:20260419T154738
CREATED:20201106T135948Z
LAST-MODIFIED:20240313T153431Z
UID:10000429-1739091600-1739095200@zionauburn.com
SUMMARY:Sunday AM Worship
DESCRIPTION:
URL:https://zionauburn.com/church/event/sunday-am-worship/2025-02-09/
LOCATION:Zion Auburn Lutheran Church\, 1557 Seidlers Road\, Auburn\, MI\, 46611\, United States
CATEGORIES:Services
ATTACH;FMTTYPE=image/jpeg:https://zionauburn.com/church/wp-content/uploads/2020/11/sunday.jpg
GEO:43.6822;-84.11054
X-APPLE-STRUCTURED-LOCATION;VALUE=URI;X-ADDRESS=Zion Auburn Lutheran Church 1557 Seidlers Road Auburn MI 46611 United States;X-APPLE-RADIUS=500;X-TITLE=1557 Seidlers Road:geo:-84.11054,43.6822
END:VEVENT
BEGIN:VEVENT
DTSTART;TZID=America/Detroit:20250215T173000
DTEND;TZID=America/Detroit:20250215T183000
DTSTAMP:20260419T154738
CREATED:20241001T150023Z
LAST-MODIFIED:20250627T122521Z
UID:10001268-1739640600-1739644200@zionauburn.com
SUMMARY:Saturday Night Service
DESCRIPTION:
URL:https://zionauburn.com/church/event/saturday-night-service/2025-02-15/
LOCATION:Zion Auburn Lutheran Church\, 1557 Seidlers Road\, Auburn\, MI\, 46611\, United States
CATEGORIES:Services
ATTACH;FMTTYPE=image/jpeg:https://zionauburn.com/church/wp-content/uploads/2020/11/sat.jpg
GEO:43.6822;-84.11054
X-APPLE-STRUCTURED-LOCATION;VALUE=URI;X-ADDRESS=Zion Auburn Lutheran Church 1557 Seidlers Road Auburn MI 46611 United States;X-APPLE-RADIUS=500;X-TITLE=1557 Seidlers Road:geo:-84.11054,43.6822
END:VEVENT
BEGIN:VEVENT
DTSTART;TZID=America/Detroit:20250216T090000
DTEND;TZID=America/Detroit:20250216T100000
DTSTAMP:20260419T154738
CREATED:20201106T135948Z
LAST-MODIFIED:20240313T153431Z
UID:10000430-1739696400-1739700000@zionauburn.com
SUMMARY:Sunday AM Worship
DESCRIPTION:
URL:https://zionauburn.com/church/event/sunday-am-worship/2025-02-16/
LOCATION:Zion Auburn Lutheran Church\, 1557 Seidlers Road\, Auburn\, MI\, 46611\, United States
CATEGORIES:Services
ATTACH;FMTTYPE=image/jpeg:https://zionauburn.com/church/wp-content/uploads/2020/11/sunday.jpg
GEO:43.6822;-84.11054
X-APPLE-STRUCTURED-LOCATION;VALUE=URI;X-ADDRESS=Zion Auburn Lutheran Church 1557 Seidlers Road Auburn MI 46611 United States;X-APPLE-RADIUS=500;X-TITLE=1557 Seidlers Road:geo:-84.11054,43.6822
END:VEVENT
BEGIN:VEVENT
DTSTART;TZID=America/Detroit:20250222T173000
DTEND;TZID=America/Detroit:20250222T183000
DTSTAMP:20260419T154738
CREATED:20241001T150023Z
LAST-MODIFIED:20250627T122521Z
UID:10001269-1740245400-1740249000@zionauburn.com
SUMMARY:Saturday Night Service
DESCRIPTION:
URL:https://zionauburn.com/church/event/saturday-night-service/2025-02-22/
LOCATION:Zion Auburn Lutheran Church\, 1557 Seidlers Road\, Auburn\, MI\, 46611\, United States
CATEGORIES:Services
ATTACH;FMTTYPE=image/jpeg:https://zionauburn.com/church/wp-content/uploads/2020/11/sat.jpg
GEO:43.6822;-84.11054
X-APPLE-STRUCTURED-LOCATION;VALUE=URI;X-ADDRESS=Zion Auburn Lutheran Church 1557 Seidlers Road Auburn MI 46611 United States;X-APPLE-RADIUS=500;X-TITLE=1557 Seidlers Road:geo:-84.11054,43.6822
END:VEVENT
BEGIN:VEVENT
DTSTART;TZID=America/Detroit:20250223T090000
DTEND;TZID=America/Detroit:20250223T100000
DTSTAMP:20260419T154738
CREATED:20201106T135948Z
LAST-MODIFIED:20240313T153431Z
UID:10000431-1740301200-1740304800@zionauburn.com
SUMMARY:Sunday AM Worship
DESCRIPTION:
URL:https://zionauburn.com/church/event/sunday-am-worship/2025-02-23/
LOCATION:Zion Auburn Lutheran Church\, 1557 Seidlers Road\, Auburn\, MI\, 46611\, United States
CATEGORIES:Services
ATTACH;FMTTYPE=image/jpeg:https://zionauburn.com/church/wp-content/uploads/2020/11/sunday.jpg
GEO:43.6822;-84.11054
X-APPLE-STRUCTURED-LOCATION;VALUE=URI;X-ADDRESS=Zion Auburn Lutheran Church 1557 Seidlers Road Auburn MI 46611 United States;X-APPLE-RADIUS=500;X-TITLE=1557 Seidlers Road:geo:-84.11054,43.6822
END:VEVENT
BEGIN:VEVENT
DTSTART;TZID=America/Detroit:20250224T180000
DTEND;TZID=America/Detroit:20250224T210000
DTSTAMP:20260419T154739
CREATED:20250108T155415Z
LAST-MODIFIED:20250109T161717Z
UID:10001381-1740420000-1740430800@zionauburn.com
SUMMARY:Board of Elders Meeting
DESCRIPTION:
URL:https://zionauburn.com/church/event/board-of-elders-meeting-2-2-2-2/2025-02-24/
LOCATION:Zion Auburn Lutheran Church\, 1557 Seidlers Road\, Auburn\, MI\, 46611\, United States
CATEGORIES:Meetings
GEO:43.6822;-84.11054
X-APPLE-STRUCTURED-LOCATION;VALUE=URI;X-ADDRESS=Zion Auburn Lutheran Church 1557 Seidlers Road Auburn MI 46611 United States;X-APPLE-RADIUS=500;X-TITLE=1557 Seidlers Road:geo:-84.11054,43.6822
END:VEVENT
BEGIN:VEVENT
DTSTART;TZID=America/Detroit:20250301T173000
DTEND;TZID=America/Detroit:20250301T183000
DTSTAMP:20260419T154739
CREATED:20241001T150023Z
LAST-MODIFIED:20250627T122521Z
UID:10001270-1740850200-1740853800@zionauburn.com
SUMMARY:Saturday Night Service
DESCRIPTION:
URL:https://zionauburn.com/church/event/saturday-night-service/2025-03-01/
LOCATION:Zion Auburn Lutheran Church\, 1557 Seidlers Road\, Auburn\, MI\, 46611\, United States
CATEGORIES:Services
ATTACH;FMTTYPE=image/jpeg:https://zionauburn.com/church/wp-content/uploads/2020/11/sat.jpg
GEO:43.6822;-84.11054
X-APPLE-STRUCTURED-LOCATION;VALUE=URI;X-ADDRESS=Zion Auburn Lutheran Church 1557 Seidlers Road Auburn MI 46611 United States;X-APPLE-RADIUS=500;X-TITLE=1557 Seidlers Road:geo:-84.11054,43.6822
END:VEVENT
BEGIN:VEVENT
DTSTART;TZID=America/Detroit:20250302T090000
DTEND;TZID=America/Detroit:20250302T100000
DTSTAMP:20260419T154739
CREATED:20201106T135948Z
LAST-MODIFIED:20240313T153431Z
UID:10000432-1740906000-1740909600@zionauburn.com
SUMMARY:Sunday AM Worship
DESCRIPTION:
URL:https://zionauburn.com/church/event/sunday-am-worship/2025-03-02/
LOCATION:Zion Auburn Lutheran Church\, 1557 Seidlers Road\, Auburn\, MI\, 46611\, United States
CATEGORIES:Services
ATTACH;FMTTYPE=image/jpeg:https://zionauburn.com/church/wp-content/uploads/2020/11/sunday.jpg
GEO:43.6822;-84.11054
X-APPLE-STRUCTURED-LOCATION;VALUE=URI;X-ADDRESS=Zion Auburn Lutheran Church 1557 Seidlers Road Auburn MI 46611 United States;X-APPLE-RADIUS=500;X-TITLE=1557 Seidlers Road:geo:-84.11054,43.6822
END:VEVENT
BEGIN:VEVENT
DTSTART;TZID=America/Detroit:20250304T183000
DTEND;TZID=America/Detroit:20250304T210000
DTSTAMP:20260419T154739
CREATED:20250108T155006Z
LAST-MODIFIED:20250108T161042Z
UID:10001321-1741113000-1741122000@zionauburn.com
SUMMARY:Church Council
DESCRIPTION:
URL:https://zionauburn.com/church/event/church-council-2-3/2025-03-04/
LOCATION:Zion Auburn Lutheran Church\, 1557 Seidlers Road\, Auburn\, MI\, 46611\, United States
CATEGORIES:Events
GEO:43.6822;-84.11054
X-APPLE-STRUCTURED-LOCATION;VALUE=URI;X-ADDRESS=Zion Auburn Lutheran Church 1557 Seidlers Road Auburn MI 46611 United States;X-APPLE-RADIUS=500;X-TITLE=1557 Seidlers Road:geo:-84.11054,43.6822
END:VEVENT
BEGIN:VEVENT
DTSTART;TZID=America/Detroit:20250305T183000
DTEND;TZID=America/Detroit:20250305T193000
DTSTAMP:20260419T154739
CREATED:20201106T152300Z
LAST-MODIFIED:20250128T142339Z
UID:10000043-1741199400-1741203000@zionauburn.com
SUMMARY:Ash Wednesday
DESCRIPTION:
URL:https://zionauburn.com/church/event/ash-wednesday/
LOCATION:Zion Auburn Lutheran Church\, 1557 Seidlers Road\, Auburn\, MI\, 46611\, United States
CATEGORIES:Services
GEO:43.6822;-84.11054
X-APPLE-STRUCTURED-LOCATION;VALUE=URI;X-ADDRESS=Zion Auburn Lutheran Church 1557 Seidlers Road Auburn MI 46611 United States;X-APPLE-RADIUS=500;X-TITLE=1557 Seidlers Road:geo:-84.11054,43.6822
END:VEVENT
BEGIN:VEVENT
DTSTART;TZID=America/Detroit:20250308T173000
DTEND;TZID=America/Detroit:20250308T183000
DTSTAMP:20260419T154739
CREATED:20241001T150023Z
LAST-MODIFIED:20250627T122521Z
UID:10001271-1741455000-1741458600@zionauburn.com
SUMMARY:Saturday Night Service
DESCRIPTION:
URL:https://zionauburn.com/church/event/saturday-night-service/2025-03-08/
LOCATION:Zion Auburn Lutheran Church\, 1557 Seidlers Road\, Auburn\, MI\, 46611\, United States
CATEGORIES:Services
ATTACH;FMTTYPE=image/jpeg:https://zionauburn.com/church/wp-content/uploads/2020/11/sat.jpg
GEO:43.6822;-84.11054
X-APPLE-STRUCTURED-LOCATION;VALUE=URI;X-ADDRESS=Zion Auburn Lutheran Church 1557 Seidlers Road Auburn MI 46611 United States;X-APPLE-RADIUS=500;X-TITLE=1557 Seidlers Road:geo:-84.11054,43.6822
END:VEVENT
BEGIN:VEVENT
DTSTART;TZID=America/Detroit:20250309T090000
DTEND;TZID=America/Detroit:20250309T100000
DTSTAMP:20260419T154739
CREATED:20201106T135948Z
LAST-MODIFIED:20240313T153431Z
UID:10000433-1741510800-1741514400@zionauburn.com
SUMMARY:Sunday AM Worship
DESCRIPTION:
URL:https://zionauburn.com/church/event/sunday-am-worship/2025-03-09/
LOCATION:Zion Auburn Lutheran Church\, 1557 Seidlers Road\, Auburn\, MI\, 46611\, United States
CATEGORIES:Services
ATTACH;FMTTYPE=image/jpeg:https://zionauburn.com/church/wp-content/uploads/2020/11/sunday.jpg
GEO:43.6822;-84.11054
X-APPLE-STRUCTURED-LOCATION;VALUE=URI;X-ADDRESS=Zion Auburn Lutheran Church 1557 Seidlers Road Auburn MI 46611 United States;X-APPLE-RADIUS=500;X-TITLE=1557 Seidlers Road:geo:-84.11054,43.6822
END:VEVENT
BEGIN:VEVENT
DTSTART;TZID=America/Detroit:20250312T173000
DTEND;TZID=America/Detroit:20250312T183000
DTSTAMP:20260419T154739
CREATED:20250128T142631Z
LAST-MODIFIED:20250128T142632Z
UID:10000918-1741800600-1741804200@zionauburn.com
SUMMARY:Lenten Dinner
DESCRIPTION:
URL:https://zionauburn.com/church/event/lenten-dinner-2/
LOCATION:Zion Auburn Lutheran Church\, 1557 Seidlers Road\, Auburn\, MI\, 46611\, United States
CATEGORIES:Events
GEO:43.6822;-84.11054
X-APPLE-STRUCTURED-LOCATION;VALUE=URI;X-ADDRESS=Zion Auburn Lutheran Church 1557 Seidlers Road Auburn MI 46611 United States;X-APPLE-RADIUS=500;X-TITLE=1557 Seidlers Road:geo:-84.11054,43.6822
END:VEVENT
BEGIN:VEVENT
DTSTART;TZID=America/Detroit:20250312T183000
DTEND;TZID=America/Detroit:20250312T193000
DTSTAMP:20260419T154739
CREATED:20250128T142239Z
LAST-MODIFIED:20250128T142427Z
UID:10000923-1741804200-1741807800@zionauburn.com
SUMMARY:Lenten Worship Service
DESCRIPTION:
URL:https://zionauburn.com/church/event/lenten-worship-service-2-2/
LOCATION:Zion Auburn Lutheran Church\, 1557 Seidlers Road\, Auburn\, MI\, 46611\, United States
CATEGORIES:Services
GEO:43.6822;-84.11054
X-APPLE-STRUCTURED-LOCATION;VALUE=URI;X-ADDRESS=Zion Auburn Lutheran Church 1557 Seidlers Road Auburn MI 46611 United States;X-APPLE-RADIUS=500;X-TITLE=1557 Seidlers Road:geo:-84.11054,43.6822
END:VEVENT
BEGIN:VEVENT
DTSTART;TZID=America/Detroit:20250315T173000
DTEND;TZID=America/Detroit:20250315T183000
DTSTAMP:20260419T154739
CREATED:20241001T150023Z
LAST-MODIFIED:20250627T122521Z
UID:10001272-1742059800-1742063400@zionauburn.com
SUMMARY:Saturday Night Service
DESCRIPTION:
URL:https://zionauburn.com/church/event/saturday-night-service/2025-03-15/
LOCATION:Zion Auburn Lutheran Church\, 1557 Seidlers Road\, Auburn\, MI\, 46611\, United States
CATEGORIES:Services
ATTACH;FMTTYPE=image/jpeg:https://zionauburn.com/church/wp-content/uploads/2020/11/sat.jpg
GEO:43.6822;-84.11054
X-APPLE-STRUCTURED-LOCATION;VALUE=URI;X-ADDRESS=Zion Auburn Lutheran Church 1557 Seidlers Road Auburn MI 46611 United States;X-APPLE-RADIUS=500;X-TITLE=1557 Seidlers Road:geo:-84.11054,43.6822
END:VEVENT
BEGIN:VEVENT
DTSTART;TZID=America/Detroit:20250316T090000
DTEND;TZID=America/Detroit:20250316T100000
DTSTAMP:20260419T154739
CREATED:20201106T135948Z
LAST-MODIFIED:20240313T153431Z
UID:10000434-1742115600-1742119200@zionauburn.com
SUMMARY:Sunday AM Worship
DESCRIPTION:
URL:https://zionauburn.com/church/event/sunday-am-worship/2025-03-16/
LOCATION:Zion Auburn Lutheran Church\, 1557 Seidlers Road\, Auburn\, MI\, 46611\, United States
CATEGORIES:Services
ATTACH;FMTTYPE=image/jpeg:https://zionauburn.com/church/wp-content/uploads/2020/11/sunday.jpg
GEO:43.6822;-84.11054
X-APPLE-STRUCTURED-LOCATION;VALUE=URI;X-ADDRESS=Zion Auburn Lutheran Church 1557 Seidlers Road Auburn MI 46611 United States;X-APPLE-RADIUS=500;X-TITLE=1557 Seidlers Road:geo:-84.11054,43.6822
END:VEVENT
BEGIN:VEVENT
DTSTART;TZID=America/Detroit:20250322T173000
DTEND;TZID=America/Detroit:20250322T183000
DTSTAMP:20260419T154739
CREATED:20241001T150023Z
LAST-MODIFIED:20250627T122521Z
UID:10001273-1742664600-1742668200@zionauburn.com
SUMMARY:Saturday Night Service
DESCRIPTION:
URL:https://zionauburn.com/church/event/saturday-night-service/2025-03-22/
LOCATION:Zion Auburn Lutheran Church\, 1557 Seidlers Road\, Auburn\, MI\, 46611\, United States
CATEGORIES:Services
ATTACH;FMTTYPE=image/jpeg:https://zionauburn.com/church/wp-content/uploads/2020/11/sat.jpg
GEO:43.6822;-84.11054
X-APPLE-STRUCTURED-LOCATION;VALUE=URI;X-ADDRESS=Zion Auburn Lutheran Church 1557 Seidlers Road Auburn MI 46611 United States;X-APPLE-RADIUS=500;X-TITLE=1557 Seidlers Road:geo:-84.11054,43.6822
END:VEVENT
BEGIN:VEVENT
DTSTART;TZID=America/Detroit:20250323T090000
DTEND;TZID=America/Detroit:20250323T100000
DTSTAMP:20260419T154739
CREATED:20201106T135948Z
LAST-MODIFIED:20240313T153431Z
UID:10000435-1742720400-1742724000@zionauburn.com
SUMMARY:Sunday AM Worship
DESCRIPTION:
URL:https://zionauburn.com/church/event/sunday-am-worship/2025-03-23/
LOCATION:Zion Auburn Lutheran Church\, 1557 Seidlers Road\, Auburn\, MI\, 46611\, United States
CATEGORIES:Services
ATTACH;FMTTYPE=image/jpeg:https://zionauburn.com/church/wp-content/uploads/2020/11/sunday.jpg
GEO:43.6822;-84.11054
X-APPLE-STRUCTURED-LOCATION;VALUE=URI;X-ADDRESS=Zion Auburn Lutheran Church 1557 Seidlers Road Auburn MI 46611 United States;X-APPLE-RADIUS=500;X-TITLE=1557 Seidlers Road:geo:-84.11054,43.6822
END:VEVENT
BEGIN:VEVENT
DTSTART;TZID=America/Detroit:20250329T173000
DTEND;TZID=America/Detroit:20250329T183000
DTSTAMP:20260419T154739
CREATED:20241001T150023Z
LAST-MODIFIED:20250627T122521Z
UID:10001274-1743269400-1743273000@zionauburn.com
SUMMARY:Saturday Night Service
DESCRIPTION:
URL:https://zionauburn.com/church/event/saturday-night-service/2025-03-29/
LOCATION:Zion Auburn Lutheran Church\, 1557 Seidlers Road\, Auburn\, MI\, 46611\, United States
CATEGORIES:Services
ATTACH;FMTTYPE=image/jpeg:https://zionauburn.com/church/wp-content/uploads/2020/11/sat.jpg
GEO:43.6822;-84.11054
X-APPLE-STRUCTURED-LOCATION;VALUE=URI;X-ADDRESS=Zion Auburn Lutheran Church 1557 Seidlers Road Auburn MI 46611 United States;X-APPLE-RADIUS=500;X-TITLE=1557 Seidlers Road:geo:-84.11054,43.6822
END:VEVENT
BEGIN:VEVENT
DTSTART;TZID=America/Detroit:20250330T090000
DTEND;TZID=America/Detroit:20250330T100000
DTSTAMP:20260419T154739
CREATED:20201106T135948Z
LAST-MODIFIED:20240313T153431Z
UID:10000436-1743325200-1743328800@zionauburn.com
SUMMARY:Sunday AM Worship
DESCRIPTION:
URL:https://zionauburn.com/church/event/sunday-am-worship/2025-03-30/
LOCATION:Zion Auburn Lutheran Church\, 1557 Seidlers Road\, Auburn\, MI\, 46611\, United States
CATEGORIES:Services
ATTACH;FMTTYPE=image/jpeg:https://zionauburn.com/church/wp-content/uploads/2020/11/sunday.jpg
GEO:43.6822;-84.11054
X-APPLE-STRUCTURED-LOCATION;VALUE=URI;X-ADDRESS=Zion Auburn Lutheran Church 1557 Seidlers Road Auburn MI 46611 United States;X-APPLE-RADIUS=500;X-TITLE=1557 Seidlers Road:geo:-84.11054,43.6822
END:VEVENT
END:VCALENDAR