BEGIN:VCALENDAR
VERSION:2.0
PRODID:-//Zion Lutheran Church : Auburn, MI - ECPv6.2.3.2//NONSGML v1.0//EN
CALSCALE:GREGORIAN
METHOD:PUBLISH
X-ORIGINAL-URL:https://zionauburn.com/church
X-WR-CALDESC:Events for Zion Lutheran Church : Auburn, MI
REFRESH-INTERVAL;VALUE=DURATION:PT1H
X-Robots-Tag:noindex
X-PUBLISHED-TTL:PT1H
BEGIN:VTIMEZONE
TZID:America/Detroit
BEGIN:DAYLIGHT
TZOFFSETFROM:-0500
TZOFFSETTO:-0400
TZNAME:EDT
DTSTART:20280312T070000
END:DAYLIGHT
BEGIN:STANDARD
TZOFFSETFROM:-0400
TZOFFSETTO:-0500
TZNAME:EST
DTSTART:20281105T060000
END:STANDARD
END:VTIMEZONE
BEGIN:VEVENT
DTSTART;TZID=America/Detroit:20280507T090000
DTEND;TZID=America/Detroit:20280507T100000
DTSTAMP:20260419T190920
CREATED:20201106T135948Z
LAST-MODIFIED:20240313T153431Z
UID:10001064-1841302800-1841306400@zionauburn.com
SUMMARY:Sunday AM Worship
DESCRIPTION:
URL:https://zionauburn.com/church/event/sunday-am-worship/2028-05-07/
LOCATION:Zion Auburn Lutheran Church\, 1557 Seidlers Road\, Auburn\, MI\, 46611\, United States
CATEGORIES:Services
ATTACH;FMTTYPE=image/jpeg:https://zionauburn.com/church/wp-content/uploads/2020/11/sunday.jpg
GEO:43.6822;-84.11054
X-APPLE-STRUCTURED-LOCATION;VALUE=URI;X-ADDRESS=Zion Auburn Lutheran Church 1557 Seidlers Road Auburn MI 46611 United States;X-APPLE-RADIUS=500;X-TITLE=1557 Seidlers Road:geo:-84.11054,43.6822
END:VEVENT
BEGIN:VEVENT
DTSTART;TZID=America/Detroit:20280514T090000
DTEND;TZID=America/Detroit:20280514T100000
DTSTAMP:20260419T190920
CREATED:20201106T135948Z
LAST-MODIFIED:20240313T153431Z
UID:10001065-1841907600-1841911200@zionauburn.com
SUMMARY:Sunday AM Worship
DESCRIPTION:
URL:https://zionauburn.com/church/event/sunday-am-worship/2028-05-14/
LOCATION:Zion Auburn Lutheran Church\, 1557 Seidlers Road\, Auburn\, MI\, 46611\, United States
CATEGORIES:Services
ATTACH;FMTTYPE=image/jpeg:https://zionauburn.com/church/wp-content/uploads/2020/11/sunday.jpg
GEO:43.6822;-84.11054
X-APPLE-STRUCTURED-LOCATION;VALUE=URI;X-ADDRESS=Zion Auburn Lutheran Church 1557 Seidlers Road Auburn MI 46611 United States;X-APPLE-RADIUS=500;X-TITLE=1557 Seidlers Road:geo:-84.11054,43.6822
END:VEVENT
BEGIN:VEVENT
DTSTART;TZID=America/Detroit:20280521T090000
DTEND;TZID=America/Detroit:20280521T100000
DTSTAMP:20260419T190920
CREATED:20201106T135948Z
LAST-MODIFIED:20240313T153431Z
UID:10001066-1842512400-1842516000@zionauburn.com
SUMMARY:Sunday AM Worship
DESCRIPTION:
URL:https://zionauburn.com/church/event/sunday-am-worship/2028-05-21/
LOCATION:Zion Auburn Lutheran Church\, 1557 Seidlers Road\, Auburn\, MI\, 46611\, United States
CATEGORIES:Services
ATTACH;FMTTYPE=image/jpeg:https://zionauburn.com/church/wp-content/uploads/2020/11/sunday.jpg
GEO:43.6822;-84.11054
X-APPLE-STRUCTURED-LOCATION;VALUE=URI;X-ADDRESS=Zion Auburn Lutheran Church 1557 Seidlers Road Auburn MI 46611 United States;X-APPLE-RADIUS=500;X-TITLE=1557 Seidlers Road:geo:-84.11054,43.6822
END:VEVENT
BEGIN:VEVENT
DTSTART;TZID=America/Detroit:20280522T183000
DTEND;TZID=America/Detroit:20280522T213000
DTSTAMP:20260419T190920
CREATED:20251028T192336Z
LAST-MODIFIED:20251028T192725Z
UID:10001542-1842633000-1842643800@zionauburn.com
SUMMARY:Board of Elders Meeting*
DESCRIPTION:
URL:https://zionauburn.com/church/event/board-of-elders-meeting-2-2-2-2-2-4/2028-05-22/
LOCATION:Zion Auburn Lutheran Church\, 1557 Seidlers Road\, Auburn\, MI\, 46611\, United States
CATEGORIES:Meetings
GEO:43.6822;-84.11054
X-APPLE-STRUCTURED-LOCATION;VALUE=URI;X-ADDRESS=Zion Auburn Lutheran Church 1557 Seidlers Road Auburn MI 46611 United States;X-APPLE-RADIUS=500;X-TITLE=1557 Seidlers Road:geo:-84.11054,43.6822
END:VEVENT
BEGIN:VEVENT
DTSTART;TZID=America/Detroit:20280528T090000
DTEND;TZID=America/Detroit:20280528T100000
DTSTAMP:20260419T190920
CREATED:20201106T135948Z
LAST-MODIFIED:20240313T153431Z
UID:10001067-1843117200-1843120800@zionauburn.com
SUMMARY:Sunday AM Worship
DESCRIPTION:
URL:https://zionauburn.com/church/event/sunday-am-worship/2028-05-28/
LOCATION:Zion Auburn Lutheran Church\, 1557 Seidlers Road\, Auburn\, MI\, 46611\, United States
CATEGORIES:Services
ATTACH;FMTTYPE=image/jpeg:https://zionauburn.com/church/wp-content/uploads/2020/11/sunday.jpg
GEO:43.6822;-84.11054
X-APPLE-STRUCTURED-LOCATION;VALUE=URI;X-ADDRESS=Zion Auburn Lutheran Church 1557 Seidlers Road Auburn MI 46611 United States;X-APPLE-RADIUS=500;X-TITLE=1557 Seidlers Road:geo:-84.11054,43.6822
END:VEVENT
BEGIN:VEVENT
DTSTART;TZID=America/Detroit:20280604T090000
DTEND;TZID=America/Detroit:20280604T100000
DTSTAMP:20260419T190920
CREATED:20201106T135948Z
LAST-MODIFIED:20240313T153431Z
UID:10001068-1843722000-1843725600@zionauburn.com
SUMMARY:Sunday AM Worship
DESCRIPTION:
URL:https://zionauburn.com/church/event/sunday-am-worship/2028-06-04/
LOCATION:Zion Auburn Lutheran Church\, 1557 Seidlers Road\, Auburn\, MI\, 46611\, United States
CATEGORIES:Services
ATTACH;FMTTYPE=image/jpeg:https://zionauburn.com/church/wp-content/uploads/2020/11/sunday.jpg
GEO:43.6822;-84.11054
X-APPLE-STRUCTURED-LOCATION;VALUE=URI;X-ADDRESS=Zion Auburn Lutheran Church 1557 Seidlers Road Auburn MI 46611 United States;X-APPLE-RADIUS=500;X-TITLE=1557 Seidlers Road:geo:-84.11054,43.6822
END:VEVENT
BEGIN:VEVENT
DTSTART;TZID=America/Detroit:20280606T183000
DTEND;TZID=America/Detroit:20280606T210000
DTSTAMP:20260419T190920
CREATED:20250108T155006Z
LAST-MODIFIED:20250108T161042Z
UID:10001360-1843929000-1843938000@zionauburn.com
SUMMARY:Church Council
DESCRIPTION:
URL:https://zionauburn.com/church/event/church-council-2-3/2028-06-06/
LOCATION:Zion Auburn Lutheran Church\, 1557 Seidlers Road\, Auburn\, MI\, 46611\, United States
CATEGORIES:Events
GEO:43.6822;-84.11054
X-APPLE-STRUCTURED-LOCATION;VALUE=URI;X-ADDRESS=Zion Auburn Lutheran Church 1557 Seidlers Road Auburn MI 46611 United States;X-APPLE-RADIUS=500;X-TITLE=1557 Seidlers Road:geo:-84.11054,43.6822
END:VEVENT
BEGIN:VEVENT
DTSTART;TZID=America/Detroit:20280611T090000
DTEND;TZID=America/Detroit:20280611T100000
DTSTAMP:20260419T190920
CREATED:20201106T135948Z
LAST-MODIFIED:20240313T153431Z
UID:10001069-1844326800-1844330400@zionauburn.com
SUMMARY:Sunday AM Worship
DESCRIPTION:
URL:https://zionauburn.com/church/event/sunday-am-worship/2028-06-11/
LOCATION:Zion Auburn Lutheran Church\, 1557 Seidlers Road\, Auburn\, MI\, 46611\, United States
CATEGORIES:Services
ATTACH;FMTTYPE=image/jpeg:https://zionauburn.com/church/wp-content/uploads/2020/11/sunday.jpg
GEO:43.6822;-84.11054
X-APPLE-STRUCTURED-LOCATION;VALUE=URI;X-ADDRESS=Zion Auburn Lutheran Church 1557 Seidlers Road Auburn MI 46611 United States;X-APPLE-RADIUS=500;X-TITLE=1557 Seidlers Road:geo:-84.11054,43.6822
END:VEVENT
BEGIN:VEVENT
DTSTART;TZID=America/Detroit:20280618T090000
DTEND;TZID=America/Detroit:20280618T100000
DTSTAMP:20260419T190920
CREATED:20201106T135948Z
LAST-MODIFIED:20240313T153431Z
UID:10001070-1844931600-1844935200@zionauburn.com
SUMMARY:Sunday AM Worship
DESCRIPTION:
URL:https://zionauburn.com/church/event/sunday-am-worship/2028-06-18/
LOCATION:Zion Auburn Lutheran Church\, 1557 Seidlers Road\, Auburn\, MI\, 46611\, United States
CATEGORIES:Services
ATTACH;FMTTYPE=image/jpeg:https://zionauburn.com/church/wp-content/uploads/2020/11/sunday.jpg
GEO:43.6822;-84.11054
X-APPLE-STRUCTURED-LOCATION;VALUE=URI;X-ADDRESS=Zion Auburn Lutheran Church 1557 Seidlers Road Auburn MI 46611 United States;X-APPLE-RADIUS=500;X-TITLE=1557 Seidlers Road:geo:-84.11054,43.6822
END:VEVENT
BEGIN:VEVENT
DTSTART;TZID=America/Detroit:20280625T090000
DTEND;TZID=America/Detroit:20280625T100000
DTSTAMP:20260419T190920
CREATED:20201106T135948Z
LAST-MODIFIED:20240313T153431Z
UID:10001071-1845536400-1845540000@zionauburn.com
SUMMARY:Sunday AM Worship
DESCRIPTION:
URL:https://zionauburn.com/church/event/sunday-am-worship/2028-06-25/
LOCATION:Zion Auburn Lutheran Church\, 1557 Seidlers Road\, Auburn\, MI\, 46611\, United States
CATEGORIES:Services
ATTACH;FMTTYPE=image/jpeg:https://zionauburn.com/church/wp-content/uploads/2020/11/sunday.jpg
GEO:43.6822;-84.11054
X-APPLE-STRUCTURED-LOCATION;VALUE=URI;X-ADDRESS=Zion Auburn Lutheran Church 1557 Seidlers Road Auburn MI 46611 United States;X-APPLE-RADIUS=500;X-TITLE=1557 Seidlers Road:geo:-84.11054,43.6822
END:VEVENT
BEGIN:VEVENT
DTSTART;TZID=America/Detroit:20280626T183000
DTEND;TZID=America/Detroit:20280626T213000
DTSTAMP:20260419T190920
CREATED:20251028T192336Z
LAST-MODIFIED:20251028T192725Z
UID:10001543-1845657000-1845667800@zionauburn.com
SUMMARY:Board of Elders Meeting*
DESCRIPTION:
URL:https://zionauburn.com/church/event/board-of-elders-meeting-2-2-2-2-2-4/2028-06-26/
LOCATION:Zion Auburn Lutheran Church\, 1557 Seidlers Road\, Auburn\, MI\, 46611\, United States
CATEGORIES:Meetings
GEO:43.6822;-84.11054
X-APPLE-STRUCTURED-LOCATION;VALUE=URI;X-ADDRESS=Zion Auburn Lutheran Church 1557 Seidlers Road Auburn MI 46611 United States;X-APPLE-RADIUS=500;X-TITLE=1557 Seidlers Road:geo:-84.11054,43.6822
END:VEVENT
BEGIN:VEVENT
DTSTART;TZID=America/Detroit:20280702T090000
DTEND;TZID=America/Detroit:20280702T100000
DTSTAMP:20260419T190920
CREATED:20201106T135948Z
LAST-MODIFIED:20240313T153431Z
UID:10001072-1846141200-1846144800@zionauburn.com
SUMMARY:Sunday AM Worship
DESCRIPTION:
URL:https://zionauburn.com/church/event/sunday-am-worship/2028-07-02/
LOCATION:Zion Auburn Lutheran Church\, 1557 Seidlers Road\, Auburn\, MI\, 46611\, United States
CATEGORIES:Services
ATTACH;FMTTYPE=image/jpeg:https://zionauburn.com/church/wp-content/uploads/2020/11/sunday.jpg
GEO:43.6822;-84.11054
X-APPLE-STRUCTURED-LOCATION;VALUE=URI;X-ADDRESS=Zion Auburn Lutheran Church 1557 Seidlers Road Auburn MI 46611 United States;X-APPLE-RADIUS=500;X-TITLE=1557 Seidlers Road:geo:-84.11054,43.6822
END:VEVENT
BEGIN:VEVENT
DTSTART;TZID=America/Detroit:20280704T183000
DTEND;TZID=America/Detroit:20280704T210000
DTSTAMP:20260419T190920
CREATED:20250108T155006Z
LAST-MODIFIED:20250108T161042Z
UID:10001361-1846348200-1846357200@zionauburn.com
SUMMARY:Church Council
DESCRIPTION:
URL:https://zionauburn.com/church/event/church-council-2-3/2028-07-04/
LOCATION:Zion Auburn Lutheran Church\, 1557 Seidlers Road\, Auburn\, MI\, 46611\, United States
CATEGORIES:Events
GEO:43.6822;-84.11054
X-APPLE-STRUCTURED-LOCATION;VALUE=URI;X-ADDRESS=Zion Auburn Lutheran Church 1557 Seidlers Road Auburn MI 46611 United States;X-APPLE-RADIUS=500;X-TITLE=1557 Seidlers Road:geo:-84.11054,43.6822
END:VEVENT
BEGIN:VEVENT
DTSTART;TZID=America/Detroit:20280709T090000
DTEND;TZID=America/Detroit:20280709T100000
DTSTAMP:20260419T190921
CREATED:20201106T135948Z
LAST-MODIFIED:20240313T153431Z
UID:10001073-1846746000-1846749600@zionauburn.com
SUMMARY:Sunday AM Worship
DESCRIPTION:
URL:https://zionauburn.com/church/event/sunday-am-worship/2028-07-09/
LOCATION:Zion Auburn Lutheran Church\, 1557 Seidlers Road\, Auburn\, MI\, 46611\, United States
CATEGORIES:Services
ATTACH;FMTTYPE=image/jpeg:https://zionauburn.com/church/wp-content/uploads/2020/11/sunday.jpg
GEO:43.6822;-84.11054
X-APPLE-STRUCTURED-LOCATION;VALUE=URI;X-ADDRESS=Zion Auburn Lutheran Church 1557 Seidlers Road Auburn MI 46611 United States;X-APPLE-RADIUS=500;X-TITLE=1557 Seidlers Road:geo:-84.11054,43.6822
END:VEVENT
BEGIN:VEVENT
DTSTART;TZID=America/Detroit:20280716T090000
DTEND;TZID=America/Detroit:20280716T100000
DTSTAMP:20260419T190921
CREATED:20201106T135948Z
LAST-MODIFIED:20240313T153431Z
UID:10001074-1847350800-1847354400@zionauburn.com
SUMMARY:Sunday AM Worship
DESCRIPTION:
URL:https://zionauburn.com/church/event/sunday-am-worship/2028-07-16/
LOCATION:Zion Auburn Lutheran Church\, 1557 Seidlers Road\, Auburn\, MI\, 46611\, United States
CATEGORIES:Services
ATTACH;FMTTYPE=image/jpeg:https://zionauburn.com/church/wp-content/uploads/2020/11/sunday.jpg
GEO:43.6822;-84.11054
X-APPLE-STRUCTURED-LOCATION;VALUE=URI;X-ADDRESS=Zion Auburn Lutheran Church 1557 Seidlers Road Auburn MI 46611 United States;X-APPLE-RADIUS=500;X-TITLE=1557 Seidlers Road:geo:-84.11054,43.6822
END:VEVENT
BEGIN:VEVENT
DTSTART;TZID=America/Detroit:20280723T090000
DTEND;TZID=America/Detroit:20280723T100000
DTSTAMP:20260419T190921
CREATED:20201106T135948Z
LAST-MODIFIED:20240313T153431Z
UID:10001075-1847955600-1847959200@zionauburn.com
SUMMARY:Sunday AM Worship
DESCRIPTION:
URL:https://zionauburn.com/church/event/sunday-am-worship/2028-07-23/
LOCATION:Zion Auburn Lutheran Church\, 1557 Seidlers Road\, Auburn\, MI\, 46611\, United States
CATEGORIES:Services
ATTACH;FMTTYPE=image/jpeg:https://zionauburn.com/church/wp-content/uploads/2020/11/sunday.jpg
GEO:43.6822;-84.11054
X-APPLE-STRUCTURED-LOCATION;VALUE=URI;X-ADDRESS=Zion Auburn Lutheran Church 1557 Seidlers Road Auburn MI 46611 United States;X-APPLE-RADIUS=500;X-TITLE=1557 Seidlers Road:geo:-84.11054,43.6822
END:VEVENT
BEGIN:VEVENT
DTSTART;TZID=America/Detroit:20280724T183000
DTEND;TZID=America/Detroit:20280724T213000
DTSTAMP:20260419T190921
CREATED:20251028T192336Z
LAST-MODIFIED:20251028T192725Z
UID:10001544-1848076200-1848087000@zionauburn.com
SUMMARY:Board of Elders Meeting*
DESCRIPTION:
URL:https://zionauburn.com/church/event/board-of-elders-meeting-2-2-2-2-2-4/2028-07-24/
LOCATION:Zion Auburn Lutheran Church\, 1557 Seidlers Road\, Auburn\, MI\, 46611\, United States
CATEGORIES:Meetings
GEO:43.6822;-84.11054
X-APPLE-STRUCTURED-LOCATION;VALUE=URI;X-ADDRESS=Zion Auburn Lutheran Church 1557 Seidlers Road Auburn MI 46611 United States;X-APPLE-RADIUS=500;X-TITLE=1557 Seidlers Road:geo:-84.11054,43.6822
END:VEVENT
BEGIN:VEVENT
DTSTART;TZID=America/Detroit:20280730T090000
DTEND;TZID=America/Detroit:20280730T100000
DTSTAMP:20260419T190921
CREATED:20201106T135948Z
LAST-MODIFIED:20240313T153431Z
UID:10001076-1848560400-1848564000@zionauburn.com
SUMMARY:Sunday AM Worship
DESCRIPTION:
URL:https://zionauburn.com/church/event/sunday-am-worship/2028-07-30/
LOCATION:Zion Auburn Lutheran Church\, 1557 Seidlers Road\, Auburn\, MI\, 46611\, United States
CATEGORIES:Services
ATTACH;FMTTYPE=image/jpeg:https://zionauburn.com/church/wp-content/uploads/2020/11/sunday.jpg
GEO:43.6822;-84.11054
X-APPLE-STRUCTURED-LOCATION;VALUE=URI;X-ADDRESS=Zion Auburn Lutheran Church 1557 Seidlers Road Auburn MI 46611 United States;X-APPLE-RADIUS=500;X-TITLE=1557 Seidlers Road:geo:-84.11054,43.6822
END:VEVENT
BEGIN:VEVENT
DTSTART;TZID=America/Detroit:20280801T183000
DTEND;TZID=America/Detroit:20280801T210000
DTSTAMP:20260419T190921
CREATED:20250108T155006Z
LAST-MODIFIED:20250108T161042Z
UID:10001362-1848767400-1848776400@zionauburn.com
SUMMARY:Church Council
DESCRIPTION:
URL:https://zionauburn.com/church/event/church-council-2-3/2028-08-01/
LOCATION:Zion Auburn Lutheran Church\, 1557 Seidlers Road\, Auburn\, MI\, 46611\, United States
CATEGORIES:Events
GEO:43.6822;-84.11054
X-APPLE-STRUCTURED-LOCATION;VALUE=URI;X-ADDRESS=Zion Auburn Lutheran Church 1557 Seidlers Road Auburn MI 46611 United States;X-APPLE-RADIUS=500;X-TITLE=1557 Seidlers Road:geo:-84.11054,43.6822
END:VEVENT
BEGIN:VEVENT
DTSTART;TZID=America/Detroit:20280806T090000
DTEND;TZID=America/Detroit:20280806T100000
DTSTAMP:20260419T190921
CREATED:20201106T135948Z
LAST-MODIFIED:20240313T153431Z
UID:10001077-1849165200-1849168800@zionauburn.com
SUMMARY:Sunday AM Worship
DESCRIPTION:
URL:https://zionauburn.com/church/event/sunday-am-worship/2028-08-06/
LOCATION:Zion Auburn Lutheran Church\, 1557 Seidlers Road\, Auburn\, MI\, 46611\, United States
CATEGORIES:Services
ATTACH;FMTTYPE=image/jpeg:https://zionauburn.com/church/wp-content/uploads/2020/11/sunday.jpg
GEO:43.6822;-84.11054
X-APPLE-STRUCTURED-LOCATION;VALUE=URI;X-ADDRESS=Zion Auburn Lutheran Church 1557 Seidlers Road Auburn MI 46611 United States;X-APPLE-RADIUS=500;X-TITLE=1557 Seidlers Road:geo:-84.11054,43.6822
END:VEVENT
BEGIN:VEVENT
DTSTART;TZID=America/Detroit:20280813T090000
DTEND;TZID=America/Detroit:20280813T100000
DTSTAMP:20260419T190921
CREATED:20201106T135948Z
LAST-MODIFIED:20240313T153431Z
UID:10001078-1849770000-1849773600@zionauburn.com
SUMMARY:Sunday AM Worship
DESCRIPTION:
URL:https://zionauburn.com/church/event/sunday-am-worship/2028-08-13/
LOCATION:Zion Auburn Lutheran Church\, 1557 Seidlers Road\, Auburn\, MI\, 46611\, United States
CATEGORIES:Services
ATTACH;FMTTYPE=image/jpeg:https://zionauburn.com/church/wp-content/uploads/2020/11/sunday.jpg
GEO:43.6822;-84.11054
X-APPLE-STRUCTURED-LOCATION;VALUE=URI;X-ADDRESS=Zion Auburn Lutheran Church 1557 Seidlers Road Auburn MI 46611 United States;X-APPLE-RADIUS=500;X-TITLE=1557 Seidlers Road:geo:-84.11054,43.6822
END:VEVENT
BEGIN:VEVENT
DTSTART;TZID=America/Detroit:20280820T090000
DTEND;TZID=America/Detroit:20280820T100000
DTSTAMP:20260419T190921
CREATED:20201106T135948Z
LAST-MODIFIED:20240313T153431Z
UID:10001079-1850374800-1850378400@zionauburn.com
SUMMARY:Sunday AM Worship
DESCRIPTION:
URL:https://zionauburn.com/church/event/sunday-am-worship/2028-08-20/
LOCATION:Zion Auburn Lutheran Church\, 1557 Seidlers Road\, Auburn\, MI\, 46611\, United States
CATEGORIES:Services
ATTACH;FMTTYPE=image/jpeg:https://zionauburn.com/church/wp-content/uploads/2020/11/sunday.jpg
GEO:43.6822;-84.11054
X-APPLE-STRUCTURED-LOCATION;VALUE=URI;X-ADDRESS=Zion Auburn Lutheran Church 1557 Seidlers Road Auburn MI 46611 United States;X-APPLE-RADIUS=500;X-TITLE=1557 Seidlers Road:geo:-84.11054,43.6822
END:VEVENT
BEGIN:VEVENT
DTSTART;TZID=America/Detroit:20280827T090000
DTEND;TZID=America/Detroit:20280827T100000
DTSTAMP:20260419T190921
CREATED:20201106T135948Z
LAST-MODIFIED:20240313T153431Z
UID:10001080-1850979600-1850983200@zionauburn.com
SUMMARY:Sunday AM Worship
DESCRIPTION:
URL:https://zionauburn.com/church/event/sunday-am-worship/2028-08-27/
LOCATION:Zion Auburn Lutheran Church\, 1557 Seidlers Road\, Auburn\, MI\, 46611\, United States
CATEGORIES:Services
ATTACH;FMTTYPE=image/jpeg:https://zionauburn.com/church/wp-content/uploads/2020/11/sunday.jpg
GEO:43.6822;-84.11054
X-APPLE-STRUCTURED-LOCATION;VALUE=URI;X-ADDRESS=Zion Auburn Lutheran Church 1557 Seidlers Road Auburn MI 46611 United States;X-APPLE-RADIUS=500;X-TITLE=1557 Seidlers Road:geo:-84.11054,43.6822
END:VEVENT
BEGIN:VEVENT
DTSTART;TZID=America/Detroit:20280828T183000
DTEND;TZID=America/Detroit:20280828T213000
DTSTAMP:20260419T190921
CREATED:20251028T192336Z
LAST-MODIFIED:20251028T192725Z
UID:10001545-1851100200-1851111000@zionauburn.com
SUMMARY:Board of Elders Meeting*
DESCRIPTION:
URL:https://zionauburn.com/church/event/board-of-elders-meeting-2-2-2-2-2-4/2028-08-28/
LOCATION:Zion Auburn Lutheran Church\, 1557 Seidlers Road\, Auburn\, MI\, 46611\, United States
CATEGORIES:Meetings
GEO:43.6822;-84.11054
X-APPLE-STRUCTURED-LOCATION;VALUE=URI;X-ADDRESS=Zion Auburn Lutheran Church 1557 Seidlers Road Auburn MI 46611 United States;X-APPLE-RADIUS=500;X-TITLE=1557 Seidlers Road:geo:-84.11054,43.6822
END:VEVENT
BEGIN:VEVENT
DTSTART;TZID=America/Detroit:20280903T090000
DTEND;TZID=America/Detroit:20280903T100000
DTSTAMP:20260419T190921
CREATED:20201106T135948Z
LAST-MODIFIED:20240313T153431Z
UID:10001081-1851584400-1851588000@zionauburn.com
SUMMARY:Sunday AM Worship
DESCRIPTION:
URL:https://zionauburn.com/church/event/sunday-am-worship/2028-09-03/
LOCATION:Zion Auburn Lutheran Church\, 1557 Seidlers Road\, Auburn\, MI\, 46611\, United States
CATEGORIES:Services
ATTACH;FMTTYPE=image/jpeg:https://zionauburn.com/church/wp-content/uploads/2020/11/sunday.jpg
GEO:43.6822;-84.11054
X-APPLE-STRUCTURED-LOCATION;VALUE=URI;X-ADDRESS=Zion Auburn Lutheran Church 1557 Seidlers Road Auburn MI 46611 United States;X-APPLE-RADIUS=500;X-TITLE=1557 Seidlers Road:geo:-84.11054,43.6822
END:VEVENT
BEGIN:VEVENT
DTSTART;TZID=America/Detroit:20280905T183000
DTEND;TZID=America/Detroit:20280905T210000
DTSTAMP:20260419T190921
CREATED:20250108T155006Z
LAST-MODIFIED:20250108T161042Z
UID:10001363-1851791400-1851800400@zionauburn.com
SUMMARY:Church Council
DESCRIPTION:
URL:https://zionauburn.com/church/event/church-council-2-3/2028-09-05/
LOCATION:Zion Auburn Lutheran Church\, 1557 Seidlers Road\, Auburn\, MI\, 46611\, United States
CATEGORIES:Events
GEO:43.6822;-84.11054
X-APPLE-STRUCTURED-LOCATION;VALUE=URI;X-ADDRESS=Zion Auburn Lutheran Church 1557 Seidlers Road Auburn MI 46611 United States;X-APPLE-RADIUS=500;X-TITLE=1557 Seidlers Road:geo:-84.11054,43.6822
END:VEVENT
BEGIN:VEVENT
DTSTART;TZID=America/Detroit:20280910T090000
DTEND;TZID=America/Detroit:20280910T100000
DTSTAMP:20260419T190921
CREATED:20201106T135948Z
LAST-MODIFIED:20240313T153431Z
UID:10001082-1852189200-1852192800@zionauburn.com
SUMMARY:Sunday AM Worship
DESCRIPTION:
URL:https://zionauburn.com/church/event/sunday-am-worship/2028-09-10/
LOCATION:Zion Auburn Lutheran Church\, 1557 Seidlers Road\, Auburn\, MI\, 46611\, United States
CATEGORIES:Services
ATTACH;FMTTYPE=image/jpeg:https://zionauburn.com/church/wp-content/uploads/2020/11/sunday.jpg
GEO:43.6822;-84.11054
X-APPLE-STRUCTURED-LOCATION;VALUE=URI;X-ADDRESS=Zion Auburn Lutheran Church 1557 Seidlers Road Auburn MI 46611 United States;X-APPLE-RADIUS=500;X-TITLE=1557 Seidlers Road:geo:-84.11054,43.6822
END:VEVENT
BEGIN:VEVENT
DTSTART;TZID=America/Detroit:20280917T090000
DTEND;TZID=America/Detroit:20280917T100000
DTSTAMP:20260419T190921
CREATED:20201106T135948Z
LAST-MODIFIED:20240313T153431Z
UID:10001083-1852794000-1852797600@zionauburn.com
SUMMARY:Sunday AM Worship
DESCRIPTION:
URL:https://zionauburn.com/church/event/sunday-am-worship/2028-09-17/
LOCATION:Zion Auburn Lutheran Church\, 1557 Seidlers Road\, Auburn\, MI\, 46611\, United States
CATEGORIES:Services
ATTACH;FMTTYPE=image/jpeg:https://zionauburn.com/church/wp-content/uploads/2020/11/sunday.jpg
GEO:43.6822;-84.11054
X-APPLE-STRUCTURED-LOCATION;VALUE=URI;X-ADDRESS=Zion Auburn Lutheran Church 1557 Seidlers Road Auburn MI 46611 United States;X-APPLE-RADIUS=500;X-TITLE=1557 Seidlers Road:geo:-84.11054,43.6822
END:VEVENT
BEGIN:VEVENT
DTSTART;TZID=America/Detroit:20280924T090000
DTEND;TZID=America/Detroit:20280924T100000
DTSTAMP:20260419T190921
CREATED:20201106T135948Z
LAST-MODIFIED:20240313T153431Z
UID:10001084-1853398800-1853402400@zionauburn.com
SUMMARY:Sunday AM Worship
DESCRIPTION:
URL:https://zionauburn.com/church/event/sunday-am-worship/2028-09-24/
LOCATION:Zion Auburn Lutheran Church\, 1557 Seidlers Road\, Auburn\, MI\, 46611\, United States
CATEGORIES:Services
ATTACH;FMTTYPE=image/jpeg:https://zionauburn.com/church/wp-content/uploads/2020/11/sunday.jpg
GEO:43.6822;-84.11054
X-APPLE-STRUCTURED-LOCATION;VALUE=URI;X-ADDRESS=Zion Auburn Lutheran Church 1557 Seidlers Road Auburn MI 46611 United States;X-APPLE-RADIUS=500;X-TITLE=1557 Seidlers Road:geo:-84.11054,43.6822
END:VEVENT
BEGIN:VEVENT
DTSTART;TZID=America/Detroit:20280925T183000
DTEND;TZID=America/Detroit:20280925T213000
DTSTAMP:20260419T190921
CREATED:20251028T192336Z
LAST-MODIFIED:20251028T192725Z
UID:10001546-1853519400-1853530200@zionauburn.com
SUMMARY:Board of Elders Meeting*
DESCRIPTION:
URL:https://zionauburn.com/church/event/board-of-elders-meeting-2-2-2-2-2-4/2028-09-25/
LOCATION:Zion Auburn Lutheran Church\, 1557 Seidlers Road\, Auburn\, MI\, 46611\, United States
CATEGORIES:Meetings
GEO:43.6822;-84.11054
X-APPLE-STRUCTURED-LOCATION;VALUE=URI;X-ADDRESS=Zion Auburn Lutheran Church 1557 Seidlers Road Auburn MI 46611 United States;X-APPLE-RADIUS=500;X-TITLE=1557 Seidlers Road:geo:-84.11054,43.6822
END:VEVENT
END:VCALENDAR