BEGIN:VCALENDAR
VERSION:2.0
PRODID:-//Zion Lutheran Church : Auburn, MI - ECPv6.2.3.2//NONSGML v1.0//EN
CALSCALE:GREGORIAN
METHOD:PUBLISH
X-ORIGINAL-URL:https://zionauburn.com/church
X-WR-CALDESC:Events for Zion Lutheran Church : Auburn, MI
REFRESH-INTERVAL;VALUE=DURATION:PT1H
X-Robots-Tag:noindex
X-PUBLISHED-TTL:PT1H
BEGIN:VTIMEZONE
TZID:America/Detroit
BEGIN:DAYLIGHT
TZOFFSETFROM:-0500
TZOFFSETTO:-0400
TZNAME:EDT
DTSTART:20240310T070000
END:DAYLIGHT
BEGIN:STANDARD
TZOFFSETFROM:-0400
TZOFFSETTO:-0500
TZNAME:EST
DTSTART:20241103T060000
END:STANDARD
END:VTIMEZONE
BEGIN:VEVENT
DTSTART;TZID=America/Detroit:20241019T173000
DTEND;TZID=America/Detroit:20241019T183000
DTSTAMP:20260419T090848
CREATED:20241001T150023Z
LAST-MODIFIED:20250627T122521Z
UID:10001251-1729359000-1729362600@zionauburn.com
SUMMARY:Saturday Night Service
DESCRIPTION:
URL:https://zionauburn.com/church/event/saturday-night-service/2024-10-19/
LOCATION:Zion Auburn Lutheran Church\, 1557 Seidlers Road\, Auburn\, MI\, 46611\, United States
CATEGORIES:Services
ATTACH;FMTTYPE=image/jpeg:https://zionauburn.com/church/wp-content/uploads/2020/11/sat.jpg
GEO:43.6822;-84.11054
X-APPLE-STRUCTURED-LOCATION;VALUE=URI;X-ADDRESS=Zion Auburn Lutheran Church 1557 Seidlers Road Auburn MI 46611 United States;X-APPLE-RADIUS=500;X-TITLE=1557 Seidlers Road:geo:-84.11054,43.6822
END:VEVENT
BEGIN:VEVENT
DTSTART;TZID=America/Detroit:20241020T090000
DTEND;TZID=America/Detroit:20241020T100000
DTSTAMP:20260419T090848
CREATED:20201106T135948Z
LAST-MODIFIED:20240313T153431Z
UID:10000413-1729414800-1729418400@zionauburn.com
SUMMARY:Sunday AM Worship
DESCRIPTION:
URL:https://zionauburn.com/church/event/sunday-am-worship/2024-10-20/
LOCATION:Zion Auburn Lutheran Church\, 1557 Seidlers Road\, Auburn\, MI\, 46611\, United States
CATEGORIES:Services
ATTACH;FMTTYPE=image/jpeg:https://zionauburn.com/church/wp-content/uploads/2020/11/sunday.jpg
GEO:43.6822;-84.11054
X-APPLE-STRUCTURED-LOCATION;VALUE=URI;X-ADDRESS=Zion Auburn Lutheran Church 1557 Seidlers Road Auburn MI 46611 United States;X-APPLE-RADIUS=500;X-TITLE=1557 Seidlers Road:geo:-84.11054,43.6822
END:VEVENT
BEGIN:VEVENT
DTSTART;TZID=America/Detroit:20241026T173000
DTEND;TZID=America/Detroit:20241026T183000
DTSTAMP:20260419T090848
CREATED:20241001T150023Z
LAST-MODIFIED:20250627T122521Z
UID:10001252-1729963800-1729967400@zionauburn.com
SUMMARY:Saturday Night Service
DESCRIPTION:
URL:https://zionauburn.com/church/event/saturday-night-service/2024-10-26/
LOCATION:Zion Auburn Lutheran Church\, 1557 Seidlers Road\, Auburn\, MI\, 46611\, United States
CATEGORIES:Services
ATTACH;FMTTYPE=image/jpeg:https://zionauburn.com/church/wp-content/uploads/2020/11/sat.jpg
GEO:43.6822;-84.11054
X-APPLE-STRUCTURED-LOCATION;VALUE=URI;X-ADDRESS=Zion Auburn Lutheran Church 1557 Seidlers Road Auburn MI 46611 United States;X-APPLE-RADIUS=500;X-TITLE=1557 Seidlers Road:geo:-84.11054,43.6822
END:VEVENT
BEGIN:VEVENT
DTSTART;TZID=America/Detroit:20241027T090000
DTEND;TZID=America/Detroit:20241027T100000
DTSTAMP:20260419T090848
CREATED:20201106T135948Z
LAST-MODIFIED:20240313T153431Z
UID:10000414-1730019600-1730023200@zionauburn.com
SUMMARY:Sunday AM Worship
DESCRIPTION:
URL:https://zionauburn.com/church/event/sunday-am-worship/2024-10-27/
LOCATION:Zion Auburn Lutheran Church\, 1557 Seidlers Road\, Auburn\, MI\, 46611\, United States
CATEGORIES:Services
ATTACH;FMTTYPE=image/jpeg:https://zionauburn.com/church/wp-content/uploads/2020/11/sunday.jpg
GEO:43.6822;-84.11054
X-APPLE-STRUCTURED-LOCATION;VALUE=URI;X-ADDRESS=Zion Auburn Lutheran Church 1557 Seidlers Road Auburn MI 46611 United States;X-APPLE-RADIUS=500;X-TITLE=1557 Seidlers Road:geo:-84.11054,43.6822
END:VEVENT
BEGIN:VEVENT
DTSTART;TZID=America/Detroit:20241102T173000
DTEND;TZID=America/Detroit:20241102T183000
DTSTAMP:20260419T090848
CREATED:20241001T150023Z
LAST-MODIFIED:20250627T122521Z
UID:10001253-1730568600-1730572200@zionauburn.com
SUMMARY:Saturday Night Service
DESCRIPTION:
URL:https://zionauburn.com/church/event/saturday-night-service/2024-11-02/
LOCATION:Zion Auburn Lutheran Church\, 1557 Seidlers Road\, Auburn\, MI\, 46611\, United States
CATEGORIES:Services
ATTACH;FMTTYPE=image/jpeg:https://zionauburn.com/church/wp-content/uploads/2020/11/sat.jpg
GEO:43.6822;-84.11054
X-APPLE-STRUCTURED-LOCATION;VALUE=URI;X-ADDRESS=Zion Auburn Lutheran Church 1557 Seidlers Road Auburn MI 46611 United States;X-APPLE-RADIUS=500;X-TITLE=1557 Seidlers Road:geo:-84.11054,43.6822
END:VEVENT
BEGIN:VEVENT
DTSTART;TZID=America/Detroit:20241103T090000
DTEND;TZID=America/Detroit:20241103T100000
DTSTAMP:20260419T090848
CREATED:20201106T135948Z
LAST-MODIFIED:20240313T153431Z
UID:10000415-1730624400-1730628000@zionauburn.com
SUMMARY:Sunday AM Worship
DESCRIPTION:
URL:https://zionauburn.com/church/event/sunday-am-worship/2024-11-03/
LOCATION:Zion Auburn Lutheran Church\, 1557 Seidlers Road\, Auburn\, MI\, 46611\, United States
CATEGORIES:Services
ATTACH;FMTTYPE=image/jpeg:https://zionauburn.com/church/wp-content/uploads/2020/11/sunday.jpg
GEO:43.6822;-84.11054
X-APPLE-STRUCTURED-LOCATION;VALUE=URI;X-ADDRESS=Zion Auburn Lutheran Church 1557 Seidlers Road Auburn MI 46611 United States;X-APPLE-RADIUS=500;X-TITLE=1557 Seidlers Road:geo:-84.11054,43.6822
END:VEVENT
BEGIN:VEVENT
DTSTART;TZID=America/Detroit:20241109T173000
DTEND;TZID=America/Detroit:20241109T183000
DTSTAMP:20260419T090848
CREATED:20241001T150023Z
LAST-MODIFIED:20250627T122521Z
UID:10001254-1731173400-1731177000@zionauburn.com
SUMMARY:Saturday Night Service
DESCRIPTION:
URL:https://zionauburn.com/church/event/saturday-night-service/2024-11-09/
LOCATION:Zion Auburn Lutheran Church\, 1557 Seidlers Road\, Auburn\, MI\, 46611\, United States
CATEGORIES:Services
ATTACH;FMTTYPE=image/jpeg:https://zionauburn.com/church/wp-content/uploads/2020/11/sat.jpg
GEO:43.6822;-84.11054
X-APPLE-STRUCTURED-LOCATION;VALUE=URI;X-ADDRESS=Zion Auburn Lutheran Church 1557 Seidlers Road Auburn MI 46611 United States;X-APPLE-RADIUS=500;X-TITLE=1557 Seidlers Road:geo:-84.11054,43.6822
END:VEVENT
BEGIN:VEVENT
DTSTART;TZID=America/Detroit:20241110T090000
DTEND;TZID=America/Detroit:20241110T100000
DTSTAMP:20260419T090848
CREATED:20201106T135948Z
LAST-MODIFIED:20240313T153431Z
UID:10000416-1731229200-1731232800@zionauburn.com
SUMMARY:Sunday AM Worship
DESCRIPTION:
URL:https://zionauburn.com/church/event/sunday-am-worship/2024-11-10/
LOCATION:Zion Auburn Lutheran Church\, 1557 Seidlers Road\, Auburn\, MI\, 46611\, United States
CATEGORIES:Services
ATTACH;FMTTYPE=image/jpeg:https://zionauburn.com/church/wp-content/uploads/2020/11/sunday.jpg
GEO:43.6822;-84.11054
X-APPLE-STRUCTURED-LOCATION;VALUE=URI;X-ADDRESS=Zion Auburn Lutheran Church 1557 Seidlers Road Auburn MI 46611 United States;X-APPLE-RADIUS=500;X-TITLE=1557 Seidlers Road:geo:-84.11054,43.6822
END:VEVENT
BEGIN:VEVENT
DTSTART;TZID=America/Detroit:20241111T063000
DTEND;TZID=America/Detroit:20241111T210000
DTSTAMP:20260419T090848
CREATED:20231214T203520Z
LAST-MODIFIED:20240627T121517Z
UID:10000763-1731306600-1731358800@zionauburn.com
SUMMARY:Church Council
DESCRIPTION:
URL:https://zionauburn.com/church/event/church-council-2/2024-11-11/
LOCATION:Zion Auburn Lutheran Church\, 1557 Seidlers Road\, Auburn\, MI\, 46611\, United States
CATEGORIES:Events
GEO:43.6822;-84.11054
X-APPLE-STRUCTURED-LOCATION;VALUE=URI;X-ADDRESS=Zion Auburn Lutheran Church 1557 Seidlers Road Auburn MI 46611 United States;X-APPLE-RADIUS=500;X-TITLE=1557 Seidlers Road:geo:-84.11054,43.6822
END:VEVENT
BEGIN:VEVENT
DTSTART;TZID=America/Detroit:20241116T173000
DTEND;TZID=America/Detroit:20241116T183000
DTSTAMP:20260419T090848
CREATED:20241001T150023Z
LAST-MODIFIED:20250627T122521Z
UID:10001255-1731778200-1731781800@zionauburn.com
SUMMARY:Saturday Night Service
DESCRIPTION:
URL:https://zionauburn.com/church/event/saturday-night-service/2024-11-16/
LOCATION:Zion Auburn Lutheran Church\, 1557 Seidlers Road\, Auburn\, MI\, 46611\, United States
CATEGORIES:Services
ATTACH;FMTTYPE=image/jpeg:https://zionauburn.com/church/wp-content/uploads/2020/11/sat.jpg
GEO:43.6822;-84.11054
X-APPLE-STRUCTURED-LOCATION;VALUE=URI;X-ADDRESS=Zion Auburn Lutheran Church 1557 Seidlers Road Auburn MI 46611 United States;X-APPLE-RADIUS=500;X-TITLE=1557 Seidlers Road:geo:-84.11054,43.6822
END:VEVENT
BEGIN:VEVENT
DTSTART;TZID=America/Detroit:20241117T090000
DTEND;TZID=America/Detroit:20241117T100000
DTSTAMP:20260419T090848
CREATED:20201106T135948Z
LAST-MODIFIED:20240313T153431Z
UID:10000417-1731834000-1731837600@zionauburn.com
SUMMARY:Sunday AM Worship
DESCRIPTION:
URL:https://zionauburn.com/church/event/sunday-am-worship/2024-11-17/
LOCATION:Zion Auburn Lutheran Church\, 1557 Seidlers Road\, Auburn\, MI\, 46611\, United States
CATEGORIES:Services
ATTACH;FMTTYPE=image/jpeg:https://zionauburn.com/church/wp-content/uploads/2020/11/sunday.jpg
GEO:43.6822;-84.11054
X-APPLE-STRUCTURED-LOCATION;VALUE=URI;X-ADDRESS=Zion Auburn Lutheran Church 1557 Seidlers Road Auburn MI 46611 United States;X-APPLE-RADIUS=500;X-TITLE=1557 Seidlers Road:geo:-84.11054,43.6822
END:VEVENT
BEGIN:VEVENT
DTSTART;TZID=America/Detroit:20241123T173000
DTEND;TZID=America/Detroit:20241123T183000
DTSTAMP:20260419T090848
CREATED:20241001T150023Z
LAST-MODIFIED:20250627T122521Z
UID:10001256-1732383000-1732386600@zionauburn.com
SUMMARY:Saturday Night Service
DESCRIPTION:
URL:https://zionauburn.com/church/event/saturday-night-service/2024-11-23/
LOCATION:Zion Auburn Lutheran Church\, 1557 Seidlers Road\, Auburn\, MI\, 46611\, United States
CATEGORIES:Services
ATTACH;FMTTYPE=image/jpeg:https://zionauburn.com/church/wp-content/uploads/2020/11/sat.jpg
GEO:43.6822;-84.11054
X-APPLE-STRUCTURED-LOCATION;VALUE=URI;X-ADDRESS=Zion Auburn Lutheran Church 1557 Seidlers Road Auburn MI 46611 United States;X-APPLE-RADIUS=500;X-TITLE=1557 Seidlers Road:geo:-84.11054,43.6822
END:VEVENT
BEGIN:VEVENT
DTSTART;TZID=America/Detroit:20241124T090000
DTEND;TZID=America/Detroit:20241124T100000
DTSTAMP:20260419T090848
CREATED:20201106T135948Z
LAST-MODIFIED:20240313T153431Z
UID:10000418-1732438800-1732442400@zionauburn.com
SUMMARY:Sunday AM Worship
DESCRIPTION:
URL:https://zionauburn.com/church/event/sunday-am-worship/2024-11-24/
LOCATION:Zion Auburn Lutheran Church\, 1557 Seidlers Road\, Auburn\, MI\, 46611\, United States
CATEGORIES:Services
ATTACH;FMTTYPE=image/jpeg:https://zionauburn.com/church/wp-content/uploads/2020/11/sunday.jpg
GEO:43.6822;-84.11054
X-APPLE-STRUCTURED-LOCATION;VALUE=URI;X-ADDRESS=Zion Auburn Lutheran Church 1557 Seidlers Road Auburn MI 46611 United States;X-APPLE-RADIUS=500;X-TITLE=1557 Seidlers Road:geo:-84.11054,43.6822
END:VEVENT
BEGIN:VEVENT
DTSTART;TZID=America/Detroit:20241130T173000
DTEND;TZID=America/Detroit:20241130T183000
DTSTAMP:20260419T090848
CREATED:20241001T150023Z
LAST-MODIFIED:20250627T122521Z
UID:10001257-1732987800-1732991400@zionauburn.com
SUMMARY:Saturday Night Service
DESCRIPTION:
URL:https://zionauburn.com/church/event/saturday-night-service/2024-11-30/
LOCATION:Zion Auburn Lutheran Church\, 1557 Seidlers Road\, Auburn\, MI\, 46611\, United States
CATEGORIES:Services
ATTACH;FMTTYPE=image/jpeg:https://zionauburn.com/church/wp-content/uploads/2020/11/sat.jpg
GEO:43.6822;-84.11054
X-APPLE-STRUCTURED-LOCATION;VALUE=URI;X-ADDRESS=Zion Auburn Lutheran Church 1557 Seidlers Road Auburn MI 46611 United States;X-APPLE-RADIUS=500;X-TITLE=1557 Seidlers Road:geo:-84.11054,43.6822
END:VEVENT
BEGIN:VEVENT
DTSTART;TZID=America/Detroit:20241201T090000
DTEND;TZID=America/Detroit:20241201T100000
DTSTAMP:20260419T090848
CREATED:20201106T135948Z
LAST-MODIFIED:20240313T153431Z
UID:10000419-1733043600-1733047200@zionauburn.com
SUMMARY:Sunday AM Worship
DESCRIPTION:
URL:https://zionauburn.com/church/event/sunday-am-worship/2024-12-01/
LOCATION:Zion Auburn Lutheran Church\, 1557 Seidlers Road\, Auburn\, MI\, 46611\, United States
CATEGORIES:Services
ATTACH;FMTTYPE=image/jpeg:https://zionauburn.com/church/wp-content/uploads/2020/11/sunday.jpg
GEO:43.6822;-84.11054
X-APPLE-STRUCTURED-LOCATION;VALUE=URI;X-ADDRESS=Zion Auburn Lutheran Church 1557 Seidlers Road Auburn MI 46611 United States;X-APPLE-RADIUS=500;X-TITLE=1557 Seidlers Road:geo:-84.11054,43.6822
END:VEVENT
BEGIN:VEVENT
DTSTART;TZID=America/Detroit:20241204T173000
DTEND;TZID=America/Detroit:20241204T183000
DTSTAMP:20260419T090848
CREATED:20221201T144400Z
LAST-MODIFIED:20241210T185259Z
UID:10000049-1733333400-1733337000@zionauburn.com
SUMMARY:Advent Meal
DESCRIPTION:Advent Meal at 5:30 p.m. \nAdvent Service at 6:30 p.m.
URL:https://zionauburn.com/church/event/advent-meal-2/
LOCATION:Zion Auburn Lutheran Church\, 1557 Seidlers Road\, Auburn\, MI\, 46611\, United States
CATEGORIES:Services
GEO:43.6822;-84.11054
X-APPLE-STRUCTURED-LOCATION;VALUE=URI;X-ADDRESS=Zion Auburn Lutheran Church 1557 Seidlers Road Auburn MI 46611 United States;X-APPLE-RADIUS=500;X-TITLE=1557 Seidlers Road:geo:-84.11054,43.6822
END:VEVENT
BEGIN:VEVENT
DTSTART;TZID=America/Detroit:20241204T183000
DTEND;TZID=America/Detroit:20241204T193000
DTSTAMP:20260419T090848
CREATED:20221201T144250Z
LAST-MODIFIED:20241210T183655Z
UID:10000089-1733337000-1733340600@zionauburn.com
SUMMARY:Advent Service
DESCRIPTION:Advent Meal at 5:30 p.m. \nAdvent Service at 6:30 p.m.
URL:https://zionauburn.com/church/event/advent-service-3/
LOCATION:Zion Auburn Lutheran Church\, 1557 Seidlers Road\, Auburn\, MI\, 46611\, United States
CATEGORIES:Services
GEO:43.6822;-84.11054
X-APPLE-STRUCTURED-LOCATION;VALUE=URI;X-ADDRESS=Zion Auburn Lutheran Church 1557 Seidlers Road Auburn MI 46611 United States;X-APPLE-RADIUS=500;X-TITLE=1557 Seidlers Road:geo:-84.11054,43.6822
END:VEVENT
BEGIN:VEVENT
DTSTART;TZID=America/Detroit:20241207T173000
DTEND;TZID=America/Detroit:20241207T183000
DTSTAMP:20260419T090848
CREATED:20241001T150023Z
LAST-MODIFIED:20250627T122521Z
UID:10001258-1733592600-1733596200@zionauburn.com
SUMMARY:Saturday Night Service
DESCRIPTION:
URL:https://zionauburn.com/church/event/saturday-night-service/2024-12-07/
LOCATION:Zion Auburn Lutheran Church\, 1557 Seidlers Road\, Auburn\, MI\, 46611\, United States
CATEGORIES:Services
ATTACH;FMTTYPE=image/jpeg:https://zionauburn.com/church/wp-content/uploads/2020/11/sat.jpg
GEO:43.6822;-84.11054
X-APPLE-STRUCTURED-LOCATION;VALUE=URI;X-ADDRESS=Zion Auburn Lutheran Church 1557 Seidlers Road Auburn MI 46611 United States;X-APPLE-RADIUS=500;X-TITLE=1557 Seidlers Road:geo:-84.11054,43.6822
END:VEVENT
BEGIN:VEVENT
DTSTART;TZID=America/Detroit:20241208T090000
DTEND;TZID=America/Detroit:20241208T100000
DTSTAMP:20260419T090848
CREATED:20201106T135948Z
LAST-MODIFIED:20240313T153431Z
UID:10000420-1733648400-1733652000@zionauburn.com
SUMMARY:Sunday AM Worship
DESCRIPTION:
URL:https://zionauburn.com/church/event/sunday-am-worship/2024-12-08/
LOCATION:Zion Auburn Lutheran Church\, 1557 Seidlers Road\, Auburn\, MI\, 46611\, United States
CATEGORIES:Services
ATTACH;FMTTYPE=image/jpeg:https://zionauburn.com/church/wp-content/uploads/2020/11/sunday.jpg
GEO:43.6822;-84.11054
X-APPLE-STRUCTURED-LOCATION;VALUE=URI;X-ADDRESS=Zion Auburn Lutheran Church 1557 Seidlers Road Auburn MI 46611 United States;X-APPLE-RADIUS=500;X-TITLE=1557 Seidlers Road:geo:-84.11054,43.6822
END:VEVENT
BEGIN:VEVENT
DTSTART;TZID=America/Detroit:20241209T063000
DTEND;TZID=America/Detroit:20241209T210000
DTSTAMP:20260419T090848
CREATED:20231214T203520Z
LAST-MODIFIED:20240627T121517Z
UID:10000764-1733725800-1733778000@zionauburn.com
SUMMARY:Church Council
DESCRIPTION:
URL:https://zionauburn.com/church/event/church-council-2/2024-12-09/
LOCATION:Zion Auburn Lutheran Church\, 1557 Seidlers Road\, Auburn\, MI\, 46611\, United States
CATEGORIES:Events
GEO:43.6822;-84.11054
X-APPLE-STRUCTURED-LOCATION;VALUE=URI;X-ADDRESS=Zion Auburn Lutheran Church 1557 Seidlers Road Auburn MI 46611 United States;X-APPLE-RADIUS=500;X-TITLE=1557 Seidlers Road:geo:-84.11054,43.6822
END:VEVENT
BEGIN:VEVENT
DTSTART;TZID=America/Detroit:20241211T173000
DTEND;TZID=America/Detroit:20241211T183000
DTSTAMP:20260419T090848
CREATED:20221201T144331Z
LAST-MODIFIED:20241210T184150Z
UID:10001314-1733938200-1733941800@zionauburn.com
SUMMARY:Advent Meal
DESCRIPTION:Advent Meal at 5:30 p.m. \nAdvent Service at 6:30 p.m.
URL:https://zionauburn.com/church/event/advent-meal/
LOCATION:Zion Auburn Lutheran Church\, 1557 Seidlers Road\, Auburn\, MI\, 46611\, United States
CATEGORIES:Services
GEO:43.6822;-84.11054
X-APPLE-STRUCTURED-LOCATION;VALUE=URI;X-ADDRESS=Zion Auburn Lutheran Church 1557 Seidlers Road Auburn MI 46611 United States;X-APPLE-RADIUS=500;X-TITLE=1557 Seidlers Road:geo:-84.11054,43.6822
END:VEVENT
BEGIN:VEVENT
DTSTART;TZID=America/Detroit:20241211T183000
DTEND;TZID=America/Detroit:20241211T193000
DTSTAMP:20260419T090848
CREATED:20221201T143910Z
LAST-MODIFIED:20241210T183712Z
UID:10000148-1733941800-1733945400@zionauburn.com
SUMMARY:Advent Service
DESCRIPTION:Advent Meal at 5:30 p.m. \nAdvent Service at 6:30 p.m.
URL:https://zionauburn.com/church/event/advent-service-2/
LOCATION:Zion Auburn Lutheran Church\, 1557 Seidlers Road\, Auburn\, MI\, 46611\, United States
CATEGORIES:Services
GEO:43.6822;-84.11054
X-APPLE-STRUCTURED-LOCATION;VALUE=URI;X-ADDRESS=Zion Auburn Lutheran Church 1557 Seidlers Road Auburn MI 46611 United States;X-APPLE-RADIUS=500;X-TITLE=1557 Seidlers Road:geo:-84.11054,43.6822
END:VEVENT
BEGIN:VEVENT
DTSTART;TZID=America/Detroit:20241214T173000
DTEND;TZID=America/Detroit:20241214T183000
DTSTAMP:20260419T090848
CREATED:20241001T150023Z
LAST-MODIFIED:20250627T122521Z
UID:10001259-1734197400-1734201000@zionauburn.com
SUMMARY:Saturday Night Service
DESCRIPTION:
URL:https://zionauburn.com/church/event/saturday-night-service/2024-12-14/
LOCATION:Zion Auburn Lutheran Church\, 1557 Seidlers Road\, Auburn\, MI\, 46611\, United States
CATEGORIES:Services
ATTACH;FMTTYPE=image/jpeg:https://zionauburn.com/church/wp-content/uploads/2020/11/sat.jpg
GEO:43.6822;-84.11054
X-APPLE-STRUCTURED-LOCATION;VALUE=URI;X-ADDRESS=Zion Auburn Lutheran Church 1557 Seidlers Road Auburn MI 46611 United States;X-APPLE-RADIUS=500;X-TITLE=1557 Seidlers Road:geo:-84.11054,43.6822
END:VEVENT
BEGIN:VEVENT
DTSTART;TZID=America/Detroit:20241215T090000
DTEND;TZID=America/Detroit:20241215T100000
DTSTAMP:20260419T090848
CREATED:20201106T135948Z
LAST-MODIFIED:20240313T153431Z
UID:10000421-1734253200-1734256800@zionauburn.com
SUMMARY:Sunday AM Worship
DESCRIPTION:
URL:https://zionauburn.com/church/event/sunday-am-worship/2024-12-15/
LOCATION:Zion Auburn Lutheran Church\, 1557 Seidlers Road\, Auburn\, MI\, 46611\, United States
CATEGORIES:Services
ATTACH;FMTTYPE=image/jpeg:https://zionauburn.com/church/wp-content/uploads/2020/11/sunday.jpg
GEO:43.6822;-84.11054
X-APPLE-STRUCTURED-LOCATION;VALUE=URI;X-ADDRESS=Zion Auburn Lutheran Church 1557 Seidlers Road Auburn MI 46611 United States;X-APPLE-RADIUS=500;X-TITLE=1557 Seidlers Road:geo:-84.11054,43.6822
END:VEVENT
BEGIN:VEVENT
DTSTART;TZID=America/Detroit:20241218T171500
DTEND;TZID=America/Detroit:20241218T181500
DTSTAMP:20260419T090848
CREATED:20241218T142438Z
LAST-MODIFIED:20241218T143154Z
UID:10001319-1734542100-1734545700@zionauburn.com
SUMMARY:Advent Meal
DESCRIPTION:Advent Meal at 5:15 p.m. \nAdvent Service at 6:30 p.m.
URL:https://zionauburn.com/church/event/advent-meal-3/
LOCATION:Zion Auburn Lutheran Church\, 1557 Seidlers Road\, Auburn\, MI\, 46611\, United States
CATEGORIES:Services
GEO:43.6822;-84.11054
X-APPLE-STRUCTURED-LOCATION;VALUE=URI;X-ADDRESS=Zion Auburn Lutheran Church 1557 Seidlers Road Auburn MI 46611 United States;X-APPLE-RADIUS=500;X-TITLE=1557 Seidlers Road:geo:-84.11054,43.6822
END:VEVENT
BEGIN:VEVENT
DTSTART;TZID=America/Detroit:20241218T183000
DTEND;TZID=America/Detroit:20241218T193000
DTSTAMP:20260419T090848
CREATED:20241210T183808Z
LAST-MODIFIED:20241218T142141Z
UID:10000059-1734546600-1734550200@zionauburn.com
SUMMARY:Advent Service
DESCRIPTION:
URL:https://zionauburn.com/church/event/advent-service-4/
LOCATION:Zion Auburn Lutheran Church\, 1557 Seidlers Road\, Auburn\, MI\, 46611\, United States
CATEGORIES:Services
GEO:43.6822;-84.11054
X-APPLE-STRUCTURED-LOCATION;VALUE=URI;X-ADDRESS=Zion Auburn Lutheran Church 1557 Seidlers Road Auburn MI 46611 United States;X-APPLE-RADIUS=500;X-TITLE=1557 Seidlers Road:geo:-84.11054,43.6822
END:VEVENT
BEGIN:VEVENT
DTSTART;TZID=America/Detroit:20241221T173000
DTEND;TZID=America/Detroit:20241221T183000
DTSTAMP:20260419T090848
CREATED:20241001T150023Z
LAST-MODIFIED:20250627T122521Z
UID:10001260-1734802200-1734805800@zionauburn.com
SUMMARY:Saturday Night Service
DESCRIPTION:
URL:https://zionauburn.com/church/event/saturday-night-service/2024-12-21/
LOCATION:Zion Auburn Lutheran Church\, 1557 Seidlers Road\, Auburn\, MI\, 46611\, United States
CATEGORIES:Services
ATTACH;FMTTYPE=image/jpeg:https://zionauburn.com/church/wp-content/uploads/2020/11/sat.jpg
GEO:43.6822;-84.11054
X-APPLE-STRUCTURED-LOCATION;VALUE=URI;X-ADDRESS=Zion Auburn Lutheran Church 1557 Seidlers Road Auburn MI 46611 United States;X-APPLE-RADIUS=500;X-TITLE=1557 Seidlers Road:geo:-84.11054,43.6822
END:VEVENT
BEGIN:VEVENT
DTSTART;TZID=America/Detroit:20241222T090000
DTEND;TZID=America/Detroit:20241222T100000
DTSTAMP:20260419T090848
CREATED:20201106T135948Z
LAST-MODIFIED:20240313T153431Z
UID:10000422-1734858000-1734861600@zionauburn.com
SUMMARY:Sunday AM Worship
DESCRIPTION:
URL:https://zionauburn.com/church/event/sunday-am-worship/2024-12-22/
LOCATION:Zion Auburn Lutheran Church\, 1557 Seidlers Road\, Auburn\, MI\, 46611\, United States
CATEGORIES:Services
ATTACH;FMTTYPE=image/jpeg:https://zionauburn.com/church/wp-content/uploads/2020/11/sunday.jpg
GEO:43.6822;-84.11054
X-APPLE-STRUCTURED-LOCATION;VALUE=URI;X-ADDRESS=Zion Auburn Lutheran Church 1557 Seidlers Road Auburn MI 46611 United States;X-APPLE-RADIUS=500;X-TITLE=1557 Seidlers Road:geo:-84.11054,43.6822
END:VEVENT
BEGIN:VEVENT
DTSTART;TZID=America/Detroit:20241224T190000
DTEND;TZID=America/Detroit:20241224T210000
DTSTAMP:20260419T090848
CREATED:20231214T194522Z
LAST-MODIFIED:20241210T185809Z
UID:10000729-1735066800-1735074000@zionauburn.com
SUMMARY:Christmas Eve Service
DESCRIPTION:
URL:https://zionauburn.com/church/event/christmas-eve-service/
LOCATION:Zion Auburn Lutheran Church\, 1557 Seidlers Road\, Auburn\, MI\, 46611\, United States
CATEGORIES:Services
GEO:43.6822;-84.11054
X-APPLE-STRUCTURED-LOCATION;VALUE=URI;X-ADDRESS=Zion Auburn Lutheran Church 1557 Seidlers Road Auburn MI 46611 United States;X-APPLE-RADIUS=500;X-TITLE=1557 Seidlers Road:geo:-84.11054,43.6822
END:VEVENT
BEGIN:VEVENT
DTSTART;TZID=America/Detroit:20241224T220000
DTEND;TZID=America/Detroit:20241224T233000
DTSTAMP:20260419T090848
CREATED:20241210T185620Z
LAST-MODIFIED:20241210T185621Z
UID:10000730-1735077600-1735083000@zionauburn.com
SUMMARY:Christmas Eve Service
DESCRIPTION:
URL:https://zionauburn.com/church/event/christmas-eve-service-2/
LOCATION:Zion Auburn Lutheran Church\, 1557 Seidlers Road\, Auburn\, MI\, 46611\, United States
CATEGORIES:Services
GEO:43.6822;-84.11054
X-APPLE-STRUCTURED-LOCATION;VALUE=URI;X-ADDRESS=Zion Auburn Lutheran Church 1557 Seidlers Road Auburn MI 46611 United States;X-APPLE-RADIUS=500;X-TITLE=1557 Seidlers Road:geo:-84.11054,43.6822
END:VEVENT
END:VCALENDAR